BEGIN:VCALENDAR
VERSION:2.0
PRODID:-//ChamberMaster//Event Calendar 2.0//EN
METHOD:PUBLISH
X-PUBLISHED-TTL:P3D
REFRESH-INTERVAL:P3D
CALSCALE:GREGORIAN
BEGIN:VEVENT
DTSTART:20250620T133000Z
DTEND:20250620T143000Z
X-MICROSOFT-CDO-ALLDAYEVENT:FALSE
SUMMARY:Legislative Briefing
DESCRIPTION:Join us to hear updates on legislative activity at the local and state levels.
X-ALT-DESC;FMTTYPE=text/html:Join us to hear updates on legislative activity at the local and state levels.&nbsp\;&nbsp\;
LOCATION:Briefings are hybrid and attendees have the option of attending in person at the Independence Chamber of Commerce offices located 210 W. Truman Road or via Zoom Join Zoom Meeting https://us02web.zoom.us/j/86077170528?pwd=Z9hKZbzbQxO4a4zWmyb7p8m9d1Qz7V.1 Meeting ID: 860 7717 0528 Passcode: 4745
UID:e.2043.15628
SEQUENCE:3
DTSTAMP:20260425T225302Z
URL:https://business.ichamber.biz/events/details/legislative-briefing-06-20-2025-15628
END:VEVENT

END:VCALENDAR
