BEGIN:VCALENDAR
VERSION:2.0
PRODID:-//ChamberMaster//Event Calendar 2.0//EN
METHOD:PUBLISH
X-PUBLISHED-TTL:P3D
REFRESH-INTERVAL:P3D
CALSCALE:GREGORIAN
BEGIN:VEVENT
DTSTART:20191010T210000Z
DTEND:20191010T223000Z
X-MICROSOFT-CDO-ALLDAYEVENT:FALSE
SUMMARY:Let's TACO 'bout it!
DESCRIPTION:If you are not a current member of the Independence Chamber of Commerce this is for you!\n\nCome enjoy some appetizers and learn more about what the chamber has to offer.
X-ALT-DESC;FMTTYPE=text/html:If you are not a current member of the Independence Chamber of Commerce this is for you!<br />\nCome enjoy some appetizers and learn more about what the chamber has to offer.
LOCATION:Los Cabos
UID:e.2043.11546
SEQUENCE:3
DTSTAMP:20260425T040053Z
URL:https://business.ichamber.biz/events/details/let-s-taco-bout-it-11546
END:VEVENT

END:VCALENDAR
