BEGIN:VCALENDAR
VERSION:2.0
PRODID:-//ChamberMaster//Event Calendar 2.0//EN
METHOD:PUBLISH
X-PUBLISHED-TTL:P3D
REFRESH-INTERVAL:P3D
CALSCALE:GREGORIAN
BEGIN:VEVENT
DTSTART:20180802T163000Z
DTEND:20180802T180000Z
X-MICROSOFT-CDO-ALLDAYEVENT:FALSE
SUMMARY:Lunch & Learn at AVI Systems
DESCRIPTION:We hope you can join us at AVI Systems to learn about the latest technology for businesses and for a tour of AVI Systems Customer Experience Center to see the latest technology in a variety of business spaces.\n\n*Free event \n\n*Lunch will be provided
X-ALT-DESC;FMTTYPE=text/html:<span style="color:black\;">We hope you can join us at AVI Systems to learn about the latest technology for businesses and for a tour of AVI Systems Customer Experience Center to see the latest technology in a variety of business spaces.<br />\n*Free event&nbsp\;<br />\n*Lunch will be provided</span><br />\n<br />\n&nbsp\;
LOCATION:AVI Systems 8019 Bond St Lenexa\, KS 66214
UID:e.2043.8371
SEQUENCE:3
DTSTAMP:20260424T103031Z
URL:https://business.ichamber.biz/events/details/lunch-learn-at-avi-systems-8371
END:VEVENT

END:VCALENDAR
