BEGIN:VCALENDAR
VERSION:2.0
PRODID:-//ChamberMaster//Event Calendar 2.0//EN
METHOD:PUBLISH
X-PUBLISHED-TTL:P3D
REFRESH-INTERVAL:P3D
CALSCALE:GREGORIAN
BEGIN:VEVENT
DTSTART:20181102T163000Z
DTEND:20181102T180000Z
X-MICROSOFT-CDO-ALLDAYEVENT:FALSE
SUMMARY:Lunch with Governor Mike Parson
DESCRIPTION:Join the Independence Chamber as we welcome Missouri Governor Mike Parsons to Eastern Jackson County. In an event held at the Independence Uptown Market\, Governor Parsons will speak on upcoming ballot issues\, such as Prop D\, medical marijuana\, and workforce development.
X-ALT-DESC;FMTTYPE=text/html:Join the Independence Chamber as we welcome Missouri Governor Mike Parsons to Eastern Jackson County. In an event held at the Independence Uptown Market\, Governor Parsons will speak on upcoming ballot issues\, such as Prop D\, medical marijuana\, and workforce development.&nbsp\;
LOCATION:Independence Uptown Market 211 W Truman Rd. Independence\, MO 64050
UID:e.2043.8776
SEQUENCE:3
DTSTAMP:20260424T144008Z
URL:https://business.ichamber.biz/events/details/lunch-with-governor-mike-parson-8776
END:VEVENT

END:VCALENDAR
