BEGIN:VCALENDAR
VERSION:2.0
PRODID:-//ChamberMaster//Event Calendar 2.0//EN
METHOD:PUBLISH
X-PUBLISHED-TTL:P3D
REFRESH-INTERVAL:P3D
CALSCALE:GREGORIAN
BEGIN:VEVENT
DTSTART:20200723T173000Z
DTEND:20200723T190000Z
X-MICROSOFT-CDO-ALLDAYEVENT:FALSE
SUMMARY:Maintaining Continuity & Effective Management of Small Businesses in Remote Environments
DESCRIPTION:This course focuses on effective business management practices when operating a business in remote environments. Special attention will be given to operating a business during a crisis. Hear from Jeff Hornsby\, Alex Matlack\, and Gary O'Bannon on Maintaining Culture & Communications\, Working in Teams\, Developing Policies\, and Human Resources.
X-ALT-DESC;FMTTYPE=text/html:This course focuses on effective business management practices when operating a business in remote environments. Special attention will be given to operating a business during a crisis. Hear from Jeff Hornsby\, Alex Matlack\, and Gary O&#39\;Bannon on Maintaining Culture &amp\; Communications\, Working in Teams\, Developing Policies\, and Human Resources.
LOCATION:Missouri Chamber of Commerce Webinar
UID:e.2043.12904
SEQUENCE:3
DTSTAMP:20260425T125537Z
URL:https://business.ichamber.biz/events/details/maintaining-continuity-effective-management-of-small-businesses-in-remote-environments-12904
END:VEVENT

END:VCALENDAR
