BEGIN:VCALENDAR
VERSION:2.0
PRODID:-//ChamberMaster//Event Calendar 2.0//EN
METHOD:PUBLISH
X-PUBLISHED-TTL:P3D
REFRESH-INTERVAL:P3D
CALSCALE:GREGORIAN
BEGIN:VEVENT
DTSTART:20190920T160000Z
DTEND:20190920T170000Z
X-MICROSOFT-CDO-ALLDAYEVENT:FALSE
SUMMARY:Marketing Committee Meeting
DESCRIPTION:The Marketing Committee focuses on communicating the value and activities of the \n\nIndependence Chamber of Commerce consistently\, effectively and efficiently to foster growth and expansion of both the Chamber and the business community.\n\n\n\nMeets the 3rd Friday of the month at 11:00 am\, at the Independence Chamber of Commerce.  (NOTE:  Time & Day subject to change.)
X-ALT-DESC;FMTTYPE=text/html:<span style="color:black\;"><span style="font-family:arial\,sans-serif\;"><span style="font-size:12.0pt\;">The Marketing Committee focuses on communicating the value and activities of the </span></span></span><br>\n<span style="color:black\;"><span style="font-family:arial\,sans-serif\;"><span style="font-size:12.0pt\;">Independence Chamber of Commerce consistently\, effectively and efficiently to foster growth </span></span></span><span style="color:black\;"><span style="font-family:arial\,sans-serif\;"><span style="font-size:12.0pt\;">and expansion of both the Chamber and the business community.<br>\n<br>\nMeets the 3rd Friday of the month at 11:00 am\, at the Independence Chamber of Commerce.&nbsp\; (<strong>NOTE</strong>:&nbsp\; Time &amp\; Day subject to change.)&nbsp\;</span></span></span>
LOCATION:Independence Chamber of Commerce 210 W. Truman Road Independence\, MO 64050
UID:e.2043.12040
SEQUENCE:3
DTSTAMP:20260425T031308Z
URL:https://business.ichamber.biz/events/details/marketing-committee-meeting-09-20-2019-12040
END:VEVENT

END:VCALENDAR
