BEGIN:VCALENDAR
VERSION:2.0
PRODID:-//ChamberMaster//Event Calendar 2.0//EN
METHOD:PUBLISH
X-PUBLISHED-TTL:P3D
REFRESH-INTERVAL:P3D
CALSCALE:GREGORIAN
BEGIN:VEVENT
DTSTART:20161007T140000Z
DTEND:20161007T140000Z
X-MICROSOFT-CDO-ALLDAYEVENT:FALSE
SUMMARY:Marketing Committee Meeting
DESCRIPTION:The Marketing Committee typically meets every first Friday of the month.\n\nThis Month's Agenda Coming Soon!
X-ALT-DESC;FMTTYPE=text/html:The Marketing Committee typically meets every first Friday of the month.<br />\nThis Month&#39\;s Agenda Coming Soon!
LOCATION:Independence Chamber of Commerce Small Conference Room
UID:e.2043.2771
SEQUENCE:3
DTSTAMP:20260425T004653Z
URL:https://business.ichamber.biz/events/details/marketing-committee-meeting-10-07-2016-2771
END:VEVENT

END:VCALENDAR
