BEGIN:VCALENDAR
VERSION:2.0
PRODID:-//ChamberMaster//Event Calendar 2.0//EN
METHOD:PUBLISH
X-PUBLISHED-TTL:P3D
REFRESH-INTERVAL:P3D
CALSCALE:GREGORIAN
BEGIN:VEVENT
DTSTART:20190516T233000Z
DTEND:20190517T003000Z
X-MICROSOFT-CDO-ALLDAYEVENT:FALSE
SUMMARY:Marshals\, Thugs\, and Outlaws in Jackson County
DESCRIPTION:Hear the tales of the officials and outlaws   the famous and not so famous -- who lived\, worked\, and passed through the doors of the 1859 Jail\, Marshal's Home and Museum in downtown Independence.
X-ALT-DESC;FMTTYPE=text/html:<span style="background-color:rgb(245\, 245\, 245)\; font-family:helvetica neue\,helvetica\,arial\,sans-serif\; font-size:14px">Hear the tales of the officials and outlaws &ndash\; the famous and not so famous -- who lived\, worked\, and passed through the doors of the 1859 Jail\, Marshal&#39\;s Home and Museum in downtown Independence.</span>
LOCATION:Midwest Genealogy Center
UID:e.2043.9511
SEQUENCE:3
DTSTAMP:20260424T235233Z
URL:https://business.ichamber.biz/events/details/marshals-thugs-and-outlaws-in-jackson-county-9511
END:VEVENT

END:VCALENDAR
