BEGIN:VCALENDAR
VERSION:2.0
PRODID:-//ChamberMaster//Event Calendar 2.0//EN
METHOD:PUBLISH
X-PUBLISHED-TTL:P3D
REFRESH-INTERVAL:P3D
CALSCALE:GREGORIAN
BEGIN:VEVENT
DTSTART:20200709T150000Z
DTEND:20200709T160000Z
X-MICROSOFT-CDO-ALLDAYEVENT:FALSE
SUMMARY:MEDICAID EXPANSION INFORMATIONAL CONFERENCE CALL
DESCRIPTION:Please consider joining us for an informational call to learn more about Medicaid Expansion and its potential economic impacts to Missouri\, as well as details on the campaign.  \n\n \n\nThe call will take place on July 9\, 2020 at 10:00 AM.\n\nRegistration required - no cost\n\n \n\nAmendment 2\, is a measure to expand Medicaid and will be voted on by Missourians on the\n\nAugust 4th\, 2020\, primary election ballot.\n\n \n\nIf you have questions regarding Amendment 2 please send them to Sarah Beth Ray - sarahbeth@ichamber.biz\, no later than noon on the 8th of July. Questions will be submitted\n\nto the Missouri Chamber of Commerce.
X-ALT-DESC;FMTTYPE=text/html:<div style="color: rgb(64\, 63\, 66)\; font-family: Arial\, Verdana\, Helvetica\, sans-serif\; font-size: 12px\; white-space: pre-wrap\; background-color: rgb(125\, 176\, 103)\;"><span style="font-size: 18px\; color: rgb(34\, 42\, 53)\; font-family: Tahoma\, Geneva\, sans-serif\;">Please consider joining us for an informational call to learn more about Medicaid Expansion and its potential economic impacts to Missouri\, as well as details on the campaign.&nbsp\;&nbsp\;</span></div>\n\n<div style="color: rgb(64\, 63\, 66)\; font-family: Arial\, Verdana\, Helvetica\, sans-serif\; font-size: 12px\; white-space: pre-wrap\; background-color: rgb(125\, 176\, 103)\;">&nbsp\;</div>\n\n<div style="color: rgb(64\, 63\, 66)\; font-family: Arial\, Verdana\, Helvetica\, sans-serif\; font-size: 12px\; white-space: pre-wrap\; background-color: rgb(125\, 176\, 103)\;"><span style="font-size: 18px\; color: rgb(34\, 42\, 53)\; font-family: Tahoma\, Geneva\, sans-serif\;">The call will take place&nbsp\;</span><a href="https://em-ui.constantcontact.com/em-ui/em/page/em-ui/email#" rel="noopener noreferrer" style="text-decoration-line: none\; color: rgb(34\, 42\, 53)\; font-size: 18px\; font-family: Tahoma\, Geneva\, sans-serif\;" target="_blank">on </a><a href="https://em-ui.constantcontact.com/em-ui/em/page/em-ui/email#" rel="noopener noreferrer" style="text-decoration-line: none\; color: rgb(34\, 42\, 53)\; font-weight: bold\; font-size: 18px\; font-family: Tahoma\, Geneva\, sans-serif\;" target="_blank">July 9\, 2020 at 10:00 AM</a><span style="font-size: 18px\; color: rgb(34\, 42\, 53)\; font-family: Tahoma\, Geneva\, sans-serif\;">.</span></div>\n\n<div style="color: rgb(64\, 63\, 66)\; font-family: Arial\, Verdana\, Helvetica\, sans-serif\; font-size: 12px\; white-space: pre-wrap\; background-color: rgb(125\, 176\, 103)\;"><span style="font-size: 18px\; color: rgb(34\, 42\, 53)\; font-weight: bold\; font-family: Tahoma\, Geneva\, sans-serif\;">Registration required - no cost</span><br />\n&nbsp\;</div>\n\n<div style="color: rgb(64\, 63\, 66)\; font-family: Arial\, Verdana\, Helvetica\, sans-serif\; font-size: 12px\; white-space: pre-wrap\; background-color: rgb(125\, 176\, 103)\;"><span style="font-size: 18px\; color: rgb(34\, 42\, 53)\; font-family: Tahoma\, Geneva\, sans-serif\;">Amendment 2\, is a measure to expand Medicaid and will be voted on by Missourians on the<br />\nAugust 4th\, 2020\,&nbsp\;primary election ballot.</span></div>\n\n<div style="color: rgb(64\, 63\, 66)\; font-family: Arial\, Verdana\, Helvetica\, sans-serif\; font-size: 12px\; white-space: pre-wrap\; background-color: rgb(125\, 176\, 103)\;">&nbsp\;</div>\n\n<div style="color: rgb(64\, 63\, 66)\; font-family: Arial\, Verdana\, Helvetica\, sans-serif\; font-size: 12px\; white-space: pre-wrap\; background-color: rgb(125\, 176\, 103)\;"><span style="font-size: 18px\; color: rgb(34\, 42\, 53)\; font-family: Tahoma\, Geneva\, sans-serif\;">If you have&nbsp\;</span><span style="font-size: 18px\; color: rgb(34\, 42\, 53)\; font-family: Tahoma\, Geneva\, sans-serif\; font-weight: bold\;">questions&nbsp\;</span><span style="font-size: 18px\; color: rgb(34\, 42\, 53)\; font-family: Tahoma\, Geneva\, sans-serif\;">regarding Amendment 2 please send them to Sarah Beth Ray - sarahbeth@ichamber.biz\, </span><span style="font-size: 18px\; color: rgb(34\, 42\, 53)\; font-family: Tahoma\, Geneva\, sans-serif\; font-weight: bold\;">no later than&nbsp\;noon </span><a href="https://em-ui.constantcontact.com/em-ui/em/page/em-ui/email#" rel="noopener noreferrer" style="text-decoration-line: none\; color: rgb(34\, 42\, 53)\; font-weight: bold\; font-size: 18px\; font-family: Tahoma\, Geneva\, sans-serif\;" target="_blank">on the 8</a><a href="https://em-ui.constantcontact.com/em-ui/em/page/em-ui/email#" rel="noopener noreferrer" style="text-decoration-line: none\; color: rgb(34\, 42\, 53)\; font-weight: bold\; font-size: 18px\; font-family: Tahoma\, Geneva\, sans-serif\;" target="_blank"><sup style="line-height: 0\; font-size: 12.6px\;">th</sup></a><a href="https://em-ui.constantcontact.com/em-ui/em/page/em-ui/email#" rel="noopener noreferrer" style="text-decoration-line: none\; color: rgb(34\, 42\, 53)\; font-weight: bold\; font-size: 18px\; font-family: Tahoma\, Geneva\, sans-serif\;" target="_blank">&nbsp\;of July</a><span style="font-size: 18px\; color: rgb(34\, 42\, 53)\; font-family: Tahoma\, Geneva\, sans-serif\;">. Questions will be submitted<br />\nto the Missouri Chamber of Commerce.</span></div>\n
LOCATION:Online via Zoom
UID:e.2043.12915
SEQUENCE:3
DTSTAMP:20260425T125857Z
URL:https://business.ichamber.biz/events/details/medicaid-expansion-informational-conference-call-12915
END:VEVENT

END:VCALENDAR
