BEGIN:VCALENDAR
VERSION:2.0
PRODID:-//ChamberMaster//Event Calendar 2.0//EN
METHOD:PUBLISH
X-PUBLISHED-TTL:P3D
REFRESH-INTERVAL:P3D
CALSCALE:GREGORIAN
BEGIN:VEVENT
DTSTART:20220114T143000Z
DTEND:20220114T153000Z
X-MICROSOFT-CDO-ALLDAYEVENT:FALSE
SUMMARY:Membership Perks Part 1
DESCRIPTION:Membership benefits in bitesize pieces. \n\n\n\nJoin us for Part 1 on January 14th and Part 2 February 4th.\n\nEach get together will be based around a different topic of membership. \n\n\n\nJanuarys topic is Events and Networking.
X-ALT-DESC;FMTTYPE=text/html:Membership benefits in bitesize pieces.&nbsp\;<br />\n<br />\nJoin us for Part 1 on January 14th and Part 2 February 4th.<br />\nEach get together will be based around a different topic of membership.&nbsp\;<br />\n<br />\nJanuarys topic is Events and Networking.<br />\n<br />\n<br />\n&nbsp\;<br />\n<br />\n&nbsp\;
LOCATION:Chamber Board Room 210 W Truman Rd Independence MO 64050
UID:e.2043.13929
SEQUENCE:3
DTSTAMP:20260423T203518Z
URL:https://business.ichamber.biz/events/details/membership-perks-part-1-13929
END:VEVENT

END:VCALENDAR
