BEGIN:VCALENDAR
VERSION:2.0
PRODID:-//ChamberMaster//Event Calendar 2.0//EN
METHOD:PUBLISH
X-PUBLISHED-TTL:P3D
REFRESH-INTERVAL:P3D
CALSCALE:GREGORIAN
BEGIN:VEVENT
DTSTART:20190301T143000Z
DTEND:20190301T153000Z
X-MICROSOFT-CDO-ALLDAYEVENT:FALSE
SUMMARY:MEWA Group Health Insurance Program Informational Session
DESCRIPTION:If you are a small business with between 2 and 50 employees\, you will want to join us for an informational presentation on the new MEWA Group Health Insurance program which is now available to Chamber members.  This group plan uses the buying power of over 1\,200 Missouri businesses to offer competitive health insurance coverage.  This informational session will be presented by a representative of Heritage Companies who will explain the various plans\, how to get a quote and answer any questions you may have.
X-ALT-DESC;FMTTYPE=text/html:If you are a small business with between 2 and 50 employees\, you will want to join us for an informational presentation on the new MEWA Group Health Insurance program which is now available to Chamber members.&nbsp\; This group plan uses the buying power of over 1\,200 Missouri businesses to offer competitive health insurance coverage.&nbsp\; This informational session will be presented by a representative of Heritage Companies who will explain the various plans\, how to get a quote and answer any questions you may have.&nbsp\;
LOCATION:Chamber Board Room 210 W Truman Rd Independence\, MO 64050
UID:e.2043.9071
SEQUENCE:3
DTSTAMP:20260424T200116Z
URL:https://business.ichamber.biz/events/details/mewa-group-health-insurance-program-informational-session-9071
END:VEVENT

END:VCALENDAR
