BEGIN:VCALENDAR
VERSION:2.0
PRODID:-//ChamberMaster//Event Calendar 2.0//EN
METHOD:PUBLISH
X-PUBLISHED-TTL:P3D
REFRESH-INTERVAL:P3D
CALSCALE:GREGORIAN
BEGIN:VEVENT
DTSTART:20190207T170000Z
DTEND:20190207T180000Z
X-MICROSOFT-CDO-ALLDAYEVENT:FALSE
SUMMARY:Midwest Genealogy Center: Brown Bag and Brick Walls
DESCRIPTION:Spend your lunchtime learning something new! Get together with others to share helpful information\, network\, and gather inspiration to help you continue your genealogy project. Bring a sack lunch and eat as you enjoy the discussion. Bottled water will be provided.
X-ALT-DESC;FMTTYPE=text/html:<span style="background-color:rgb(245\, 245\, 245)\; color:rgb(51\, 51\, 51)\; font-family:helvetica neue\,helvetica\,arial\,sans-serif\; font-size:14px">Spend your lunchtime learning something new! Get together with others to share helpful information\, network\, and gather inspiration to help you continue your genealogy project. Bring a sack lunch and eat as you enjoy the discussion. Bottled water will be provided.</span>
LOCATION:Midwest Genealogy Center 3440 S. Lee's Summit Road Independence\, MO 64055-1923
UID:e.2043.9021
SEQUENCE:3
DTSTAMP:20260424T200351Z
URL:https://business.ichamber.biz/events/details/midwest-genealogy-center-brown-bag-and-brick-walls-9021
END:VEVENT

END:VCALENDAR
