BEGIN:VCALENDAR
VERSION:2.0
PRODID:-//ChamberMaster//Event Calendar 2.0//EN
METHOD:PUBLISH
X-PUBLISHED-TTL:P3D
REFRESH-INTERVAL:P3D
CALSCALE:GREGORIAN
BEGIN:VEVENT
DTSTART:20190227T003000Z
DTEND:20190227T013000Z
X-MICROSOFT-CDO-ALLDAYEVENT:FALSE
SUMMARY:Midwest Genealogy Center Presents: Born a Slave
DESCRIPTION:His family has been identified as Caucasian for five generations\; but after more than 30 years of genealogical research\, local historian David W. Jackson discovered his great-great-grandfather was born a slave. Jackson traces the path that led him to this revelation and how his experience could offer insights to other genealogy researchers.
X-ALT-DESC;FMTTYPE=text/html:<span style="background-color:rgb(245\, 245\, 245)\; color:rgb(51\, 51\, 51)\; font-family:helvetica neue\,helvetica\,arial\,sans-serif\; font-size:14px">His family has been identified as Caucasian for five generations\; but after more than 30 years of genealogical research\, local historian David W. Jackson discovered his great-great-grandfather was born a slave. Jackson traces the path that led him to this revelation and how his experience could offer insights to other genealogy researchers.</span>
LOCATION:Midwest Genealogy Center 3440 S. Lee's Summit Road Independence\, MO 64055-1923
UID:e.2043.9025
SEQUENCE:3
DTSTAMP:20260424T200153Z
URL:https://business.ichamber.biz/events/details/midwest-genealogy-center-presents-born-a-slave-9025
END:VEVENT

END:VCALENDAR
