BEGIN:VCALENDAR
VERSION:2.0
PRODID:-//ChamberMaster//Event Calendar 2.0//EN
METHOD:PUBLISH
X-PUBLISHED-TTL:P3D
REFRESH-INTERVAL:P3D
CALSCALE:GREGORIAN
BEGIN:VEVENT
DTSTART:20190223T163000Z
DTEND:20190223T173000Z
X-MICROSOFT-CDO-ALLDAYEVENT:FALSE
SUMMARY:Midwest Genealogy Center Presents: Cotton\, Ragdolls\, and the Underground Railroad
DESCRIPTION:Kansas City's connections to the Underground Railroad run deep. Hear stories about the people who helped escaped slaves travel to freedom in the North\, and discover the importance rag dolls played in the journey. Then make a rag doll with creative touches that make it all your own.
X-ALT-DESC;FMTTYPE=text/html:<span style="background-color:rgb(245\, 245\, 245)\; color:rgb(51\, 51\, 51)\; font-family:helvetica neue\,helvetica\,arial\,sans-serif\; font-size:14px">Kansas City&rsquo\;s connections to the Underground Railroad run deep. Hear stories about the people who helped escaped slaves travel to freedom in the North\, and discover the importance rag dolls played in the journey. Then make a rag doll with creative touches that make it all your own.</span>
LOCATION:Midwest Genealogy Center 3440 S. Lee's Summit Road Independence\, MO 64055-1923
UID:e.2043.9024
SEQUENCE:3
DTSTAMP:20260424T200428Z
URL:https://business.ichamber.biz/events/details/midwest-genealogy-center-presents-cotton-ragdolls-and-the-underground-railroad-9024
END:VEVENT

END:VCALENDAR
