BEGIN:VCALENDAR
VERSION:2.0
PRODID:-//ChamberMaster//Event Calendar 2.0//EN
METHOD:PUBLISH
X-PUBLISHED-TTL:P3D
REFRESH-INTERVAL:P3D
CALSCALE:GREGORIAN
BEGIN:VEVENT
DTSTART:20190119T003000Z
DTEND:20190119T013000Z
X-MICROSOFT-CDO-ALLDAYEVENT:FALSE
SUMMARY:Midwest Genealogy Center Presents: Genetic and Medical Genealogy
DESCRIPTION:International genealogist Kathleen Brandt started her family search because of a rare autoimmune disorder. A former member of the KU Hospital Genealogy Advisor team\, Brandt will share how you can become your own health advocate by charting your family's medical genealogy. Please note: this is a not a medical presentation\, but one more phase toward gathering family and ancestral data.
X-ALT-DESC;FMTTYPE=text/html:<span style="background-color:rgb(245\, 245\, 245)\; color:rgb(51\, 51\, 51)\; font-family:helvetica neue\,helvetica\,arial\,sans-serif\; font-size:14px">International genealogist Kathleen Brandt started her family search because of a rare autoimmune disorder. A former member of the KU Hospital Genealogy Advisor team\, Brandt will share how you can become your own health advocate by charting your family&#39\;s medical genealogy. Please note: this is a not a medical presentation\, but one more phase toward gathering family and ancestral data.&nbsp\;</span>
LOCATION:Midwest Genealogy Center 3440 S. Lee's Summit Road Independence\, MO 64055-1923
UID:e.2043.9018
SEQUENCE:3
DTSTAMP:20260424T200443Z
URL:https://business.ichamber.biz/events/details/midwest-genealogy-center-presents-genetic-and-medical-genealogy-01-18-2019-9018
END:VEVENT

END:VCALENDAR
