BEGIN:VCALENDAR
VERSION:2.0
PRODID:-//ChamberMaster//Event Calendar 2.0//EN
METHOD:PUBLISH
X-PUBLISHED-TTL:P3D
REFRESH-INTERVAL:P3D
CALSCALE:GREGORIAN
BEGIN:VEVENT
DTSTART:20190221T200000Z
DTEND:20190221T210000Z
X-MICROSOFT-CDO-ALLDAYEVENT:FALSE
SUMMARY:Midwest Genealogy Center Presents: George Washington Carver - Path to National Promience
DESCRIPTION:Discover the fascinating life story of the famed scientist\, educator\, and humanitarian with a park ranger from George Washington Carver National Monument in Diamond\, Missouri\, as your guide. See how Carver's legacy continues to inspire and encourage new generations.
X-ALT-DESC;FMTTYPE=text/html:<span style="background-color:rgb(245\, 245\, 245)\; color:rgb(51\, 51\, 51)\; font-family:helvetica neue\,helvetica\,arial\,sans-serif\; font-size:14px">Discover the fascinating life story of the famed scientist\, educator\, and humanitarian with a park ranger from George Washington Carver National Monument in Diamond\, Missouri\, as your guide. See how Carver&#39\;s legacy continues to inspire and encourage new generations.</span>
LOCATION:Midwest Genealogy Center 3440 S. Lee's Summit Road Independence\, MO 64055-1923
UID:e.2043.9023
SEQUENCE:3
DTSTAMP:20260424T200541Z
URL:https://business.ichamber.biz/events/details/midwest-genealogy-center-presents-george-washington-carver-path-to-national-promience-9023
END:VEVENT

END:VCALENDAR
