BEGIN:VCALENDAR
VERSION:2.0
PRODID:-//ChamberMaster//Event Calendar 2.0//EN
METHOD:PUBLISH
X-PUBLISHED-TTL:P3D
REFRESH-INTERVAL:P3D
CALSCALE:GREGORIAN
BEGIN:VEVENT
DTSTART:20190523T200000Z
DTEND:20190523T223000Z
X-MICROSOFT-CDO-ALLDAYEVENT:FALSE
SUMMARY:Mini Golf Tournament
DESCRIPTION:Join us at the first ever Chamber Mini Golf Tournament! Registration opens at 3 with play beginning at 4 and an awards reception afterward. There will be food\, drinks\, and a lot of fun! \n\nSponsorship Opportunities: \n\n$500 Tournament Presenting Sponsor (1) SOLD\n\n	One foursome\n	Prominent logo recognition on: Event Signage\, Newsletter\, Website\, Eblasts\, Event Program & photo booth backdrop \n\n$250 Photo Booth Sponsor (1) SOLD\n\n\n	Opportunity for company representative(s) to be at the photo booth area to talk with golfers\n\n\n\n	Logo recognition on: Event Program\, website & photo booth backdrop \n\n$200 Prize Sponsor (1) SOLD\n\n\n	Opportunity for company representative to announce the winners\n	Logo recognition on: Event Program and website \n\n$75 Game Hole Sponsor (3) SOLD\n\n\n	Opportunity for company representative(s) to be located at the hole to talk with golfers\n	Logo recognition on: Signage at the hole and Event Program \n\n$50 Hole Sponsor (15) \n\n\n	Opportunity for one company representative to be located at the hole to talk with golfers\n	Logo recognition on: Signage at the hole and Event Program \n\n$50 Bar Sponsor (2) SOLD\n\n\n	Area on the course to personally hand out drinks and talk with golfers\n	Logo recognition on: Signage at the Bar and Event Program
X-ALT-DESC;FMTTYPE=text/html:<span style="font-size:16px\;"><span style="font-family:arial\;">Join us at the first ever Chamber Mini Golf Tournament! Registration opens at 3 with play beginning at 4 and an awards reception afterward. There will be food\, drinks\, and a lot of fun!&nbsp\;</span><br />\n<span style="font-family:arial\;"><em><u>Sponsorship Opportunities: </u></em><br />\n<strong><u>$500 Tournament Presenting Sponsor (1) <span style="color:#FF0000\;">SOLD</span></u></strong></span></span>\n<ul style="list-style-type:circle\;">\n	<li><span style="font-size:16px\;"><span style="font-family:arial\;">One foursome</span></span></li>\n	<li><span style="font-size:16px\;"><span style="font-family:arial\;">Prominent logo recognition on: Event Signage\, Newsletter\, Website\, Eblasts\, Event Program &amp\; photo booth backdrop </span></span></li>\n</ul>\n<span style="font-size:16px\;"><span style="font-family:arial\;"><strong><u>$250 Photo Booth Sponsor (1) <span style="color:#FF0000\;">SOLD</span></u></strong></span></span>\n\n<ul style="list-style-type:circle\;">\n	<li><span style="font-size:16px\;"><span style="font-family:arial\;">Opportunity for company representative(s) to be at the photo booth area to talk with golfers</span></span></li>\n</ul>\n\n<ul style="list-style-type:circle\;">\n	<li><span style="font-size:16px\;"><span style="font-family:arial\;">Logo recognition on: Event Program\, website &amp\; photo booth backdrop </span></span></li>\n</ul>\n<span style="font-size:16px\;"><span style="font-family:arial\;"><strong><u>$200 Prize Sponsor (1</u>) <span style="color:#FF0000\;">SOLD</span></strong></span></span>\n\n<ul style="list-style-type:circle\;">\n	<li><span style="font-size:16px\;"><span style="font-family:arial\;">Opportunity for company representative to announce the winners</span></span></li>\n	<li><span style="font-size:16px\;"><span style="font-family:arial\;">Logo recognition on: Event Program and website </span></span></li>\n</ul>\n<span style="font-size:16px\;"><span style="font-family:arial\;"><strong><u>$75 Game Hole Sponsor (3)<span style="color:#0000FF\;">&nbsp\;</span><span style="color:#FF0000\;">SOLD</span></u></strong></span></span>\n\n<ul style="list-style-type:circle\;">\n	<li><span style="font-size:16px\;"><span style="font-family:arial\;">Opportunity for company representative(s) to be located at the hole to talk with golfers</span></span></li>\n	<li><span style="font-size:16px\;"><span style="font-family:arial\;">Logo recognition on: Signage at the hole and Event Program </span></span></li>\n</ul>\n<span style="font-size:16px\;"><span style="font-family:arial\;"><strong><u>$50 Hole Sponsor (15)&nbsp\;</u></strong></span></span>\n\n<ul style="list-style-type:circle\;">\n	<li><span style="font-size:16px\;"><span style="font-family:arial\;">Opportunity for one company representative to be located at the hole to talk with golfers</span></span></li>\n	<li><span style="font-size:16px\;"><span style="font-family:arial\;">Logo recognition on: Signage at the hole and Event Program</span>&nbsp\;</span></li>\n</ul>\n<span style="font-size:16px\;"><span style="font-family:arial\;"><strong><u>$50 Bar Sponsor (2) <span style="color:#FF0000\;">SOLD</span></u></strong></span></span>\n\n<ul style="list-style-type:circle\;">\n	<li><span style="font-size:16px\;"><span style="font-family:arial\;">Area on the course to personally hand out drinks and talk with golfers</span></span></li>\n	<li><span style="font-size:16px\;"><span style="font-family:arial\;">Logo recognition on: Signage at the Bar and Event Program</span></span></li>\n</ul>\n
LOCATION:Paradise Park
UID:e.2043.8353
SEQUENCE:3
DTSTAMP:20260424T223606Z
URL:https://business.ichamber.biz/events/details/mini-golf-tournament-8353
END:VEVENT

END:VCALENDAR
