BEGIN:VCALENDAR
VERSION:2.0
PRODID:-//ChamberMaster//Event Calendar 2.0//EN
METHOD:PUBLISH
X-PUBLISHED-TTL:P3D
REFRESH-INTERVAL:P3D
CALSCALE:GREGORIAN
BEGIN:VEVENT
DTSTART:20160728T203000Z
DTEND:20160728T213000Z
X-MICROSOFT-CDO-ALLDAYEVENT:FALSE
SUMMARY:Missouri Wines 101
DESCRIPTION:"MISSOURI WINES 101"\n\nPresented by the Missouri Wine and Grape Board\n\nMissouri has a wine history dating back over 160 years. This Missouri Wines 101 class will bring you up to speed on that extensive history and the current state of the Missouri wine & grape industry. We'll cover the tips and tricks to tasting wine and even try several of the award-winning wines being produced here in the "Show Me" State.
X-ALT-DESC;FMTTYPE=text/html:<p align="center" class="x_MsoNormal" style="margin: 0in 0in 6pt\; font-size: 11pt\; font-family: Calibri\, sans-serif\; color: rgb(33\, 33\, 33)\; text-align: center\; background-color: rgb(255\, 255\, 255)\;"><span style="font-size: 12pt\; font-family: &quot\;Edmondsans Medium&quot\;\;">&ldquo\;MISSOURI WINES 101&rdquo\;</span></p>\n\n<p align="center" class="x_MsoNormal" style="margin: 0in 0in 6pt\; font-size: 11pt\; font-family: Calibri\, sans-serif\; color: rgb(33\, 33\, 33)\; text-align: center\; background-color: rgb(255\, 255\, 255)\;"><span style="font-size: 12pt\; font-family: &quot\;Edmondsans Regular&quot\;\;">Presented by the Missouri Wine and Grape Board</span></p>\n\n<p align="center" class="x_MsoNormal" style="margin: 0in 0in 6pt\; font-size: 11pt\; font-family: Calibri\, sans-serif\; color: rgb(33\, 33\, 33)\; text-align: center\; background-color: rgb(255\, 255\, 255)\;"><span style="font-size: 12pt\; font-family: &quot\;Edmondsans Regular&quot\;\;">Missouri has a wine history dating back over 160 years. This Missouri Wines 101 class will bring you up to speed on that extensive history and the current state of the Missouri wine &amp\; grape industry. We&rsquo\;ll cover the tips and tricks to tasting wine and even try several of the award-winning wines being produced here in the &ldquo\;Show Me&rdquo\; State.</span></p>\n
LOCATION:Independence Chamber of Commerce 210 W Truman Rd Independence MO 64050
UID:e.2043.3507
SEQUENCE:3
DTSTAMP:20260425T034312Z
URL:https://business.ichamber.biz/events/details/missouri-wines-101-07-28-2016-3507
END:VEVENT

END:VCALENDAR
