BEGIN:VCALENDAR
VERSION:2.0
PRODID:-//ChamberMaster//Event Calendar 2.0//EN
METHOD:PUBLISH
X-PUBLISHED-TTL:P3D
REFRESH-INTERVAL:P3D
CALSCALE:GREGORIAN
BEGIN:VEVENT
DTSTART:20170310T140000Z
DTEND:20170310T151500Z
X-MICROSOFT-CDO-ALLDAYEVENT:FALSE
SUMMARY:Monthly Legislative Briefing
DESCRIPTION:Friday\, March 10th\, the Monthly Legislative Briefing will be held at the Free Enterprise Center. The briefing is open to all Chamber members who are asked to register free of charge.\n\n\n\nThis month's briefing will focus legislators updating us on issues at hand and an overall update on what is going on. \n\n\nConfirmed Legislators: \n\nRepresentative Cierpiot \n\nRepresentative Burnett\n\nRepresentative Ellebracht \n\nRepresentative Anders  \n\nRepresentative Stacy
X-ALT-DESC;FMTTYPE=text/html:Friday\, March&nbsp\;10th\, the Monthly Legislative Briefing will be held at the Free Enterprise Center. The briefing is open to all Chamber members who are asked to register free of charge.<br />\n<br />\nThis month&#39\;s briefing will focus legislators updating us on issues at hand and an overall update on what is going on.&nbsp\;\n<div style="text-align: center\;"><br />\n<strong><u>Confirmed Legislators:</u>&nbsp\;</strong><br />\nRepresentative Cierpiot&nbsp\;<br />\nRepresentative&nbsp\;Burnett<br />\nRepresentative Ellebracht&nbsp\;<br />\nRepresentative Anders &nbsp\;<br />\nRepresentative Stacy&nbsp\;<br />\n&nbsp\;<br />\n&nbsp\;</div>\n
LOCATION:Independence Chamber of Commerce Boardroom 210 W. Truman Road Independence\, MO 64050
UID:e.2043.3637
SEQUENCE:3
DTSTAMP:20260424T180545Z
URL:https://business.ichamber.biz/events/details/monthly-legislative-briefing-03-10-2017-3637
END:VEVENT

END:VCALENDAR
