BEGIN:VCALENDAR
VERSION:2.0
PRODID:-//ChamberMaster//Event Calendar 2.0//EN
METHOD:PUBLISH
X-PUBLISHED-TTL:P3D
REFRESH-INTERVAL:P3D
CALSCALE:GREGORIAN
BEGIN:VEVENT
DTSTART:20180316T130000Z
DTEND:20180316T141500Z
X-MICROSOFT-CDO-ALLDAYEVENT:FALSE
SUMMARY:Monthly Legislative Briefing
DESCRIPTION:Friday\, March 16th\, the monthly Legislative Briefing will be held at the Free Enterprise Center. The briefing is open to all Chamber members who are asked to register free of charge.
X-ALT-DESC;FMTTYPE=text/html:<span style="font-family: Arial\, Helvetica\, sans-serif\; font-size: 14px\; line-height: 18px\;">Friday\, March 16th\, the monthly Legislative Briefing will be held at the Free Enterprise Center. The briefing is open to all Chamber members who are asked to register free of charge.</span>
LOCATION:Independence Chamber of Commerce Boardroom 210 W. Truman Road Independence\, MO 64050
UID:e.2043.6112
SEQUENCE:3
DTSTAMP:20260424T055258Z
URL:https://business.ichamber.biz/events/details/monthly-legislative-briefing-03-16-2018-6112
END:VEVENT

END:VCALENDAR
