BEGIN:VCALENDAR
VERSION:2.0
PRODID:-//ChamberMaster//Event Calendar 2.0//EN
METHOD:PUBLISH
X-PUBLISHED-TTL:P3D
REFRESH-INTERVAL:P3D
CALSCALE:GREGORIAN
BEGIN:VEVENT
DTSTART:20150320T130000Z
DTEND:20150320T141500Z
X-MICROSOFT-CDO-ALLDAYEVENT:FALSE
SUMMARY:Monthly Legislative Briefing
DESCRIPTION:Friday\, March 20th\, the monthly Legislative Briefing will be held at the Free Enterprise Center. The briefing is open to all Chamber members who are asked to register free of charge.\n\n\nLegislators in attendance this month will be: \n\n\n\nState Representatives: \n\nIra Anders\n\nMike Cierpiot\n\n Brandon Ellington\,\n\nJeanne Lauer\n\n \n\nState Senator:\n\nPaul LaVota
X-ALT-DESC;FMTTYPE=text/html:<div><span style="font-family: Arial\, Helvetica\, sans-serif\; font-size: 14px\; line-height: 18px\;">Friday\, March 20th\, the monthly Legislative Briefing will be held at the Free Enterprise Center. The briefing is open to all Chamber members who are asked to register free of charge.</span></div>\n<br />\n<span style="font-family: Arial\, Helvetica\, sans-serif\; font-size: 14px\; line-height: 18px\;">Legislators in attendance this month will be:&nbsp\;</span>\n\n<div _mce_style="font-family: Calibri\, Helvetica\, Arial\, sans-serif\;" style="font-size: 16px\; line-height: 20.7999992370605px\; font-family: Calibri\, Helvetica\, Arial\, sans-serif\;"><br />\n<strong>State Representatives:&nbsp\;</strong><br />\nIra Anders<br />\n<span style="font-size: 12pt\; font-family: Calibri\, sans-serif\;">Mike Cierpiot<br />\n&#8203\;Brandon Ellington\,</span><br />\n<span _mce_style="color: #333333\; font-family: Calibri\, Helvetica\, Arial\, sans-serif\; font-size: 16px\; line-height: 20.7999992370605px\; text-align: center\; background-color: #ffffff\;" style="line-height: 20.7999992370605px\;">Jeanne Lauer</span><br />\n<strong><span _mce_style="color: #333333\; font-family: Calibri\, Helvetica\, Arial\, sans-serif\; font-size: 16px\; line-height: 20.7999992370605px\; text-align: center\; background-color: #ffffff\;" style="line-height: 20.7999992370605px\;">&nbsp\;</span><br />\nState Senator:</strong><br />\nPaul LaVota</div>\n
LOCATION:Independence Chamber of Commerce Boardroom 210 W. Truman Road Independence\, MO 64050
UID:e.2043.2488
SEQUENCE:3
DTSTAMP:20260425T204430Z
URL:https://business.ichamber.biz/events/details/monthly-legislative-briefing-03-20-2015-2488
END:VEVENT

END:VCALENDAR
