BEGIN:VCALENDAR
VERSION:2.0
PRODID:-//ChamberMaster//Event Calendar 2.0//EN
METHOD:PUBLISH
X-PUBLISHED-TTL:P3D
REFRESH-INTERVAL:P3D
CALSCALE:GREGORIAN
BEGIN:VEVENT
DTSTART:20150417T130000Z
DTEND:20150417T141500Z
X-MICROSOFT-CDO-ALLDAYEVENT:FALSE
SUMMARY:Monthly Legislative Briefing
DESCRIPTION:The April 17th Legislative Briefing has been canceled based on the probability of the legislators still being in session.
X-ALT-DESC;FMTTYPE=text/html:<strong><span style="color:#FF0000\;"><span style="font-family: Arial\, Helvetica\, sans-serif\; font-size: 14px\; line-height: 18px\;">The April 17th&nbsp\;Legislative Briefing has been canceled based on the probability of the legislators still being in session.&nbsp\;</span></span></strong>
LOCATION:Independence Chamber of Commerce Boardroom 210 W. Truman Road Independence\, MO 64050
UID:e.2043.2498
SEQUENCE:3
DTSTAMP:20260425T194604Z
URL:https://business.ichamber.biz/events/details/monthly-legislative-briefing-04-17-2015-2498
END:VEVENT

END:VCALENDAR
