BEGIN:VCALENDAR
VERSION:2.0
PRODID:-//ChamberMaster//Event Calendar 2.0//EN
METHOD:PUBLISH
X-PUBLISHED-TTL:P3D
REFRESH-INTERVAL:P3D
CALSCALE:GREGORIAN
BEGIN:VEVENT
DTSTART:20170421T130000Z
DTEND:20170421T141500Z
X-MICROSOFT-CDO-ALLDAYEVENT:FALSE
SUMMARY:Monthly Legislative Briefing
DESCRIPTION:Friday\, April 21st\, the Monthly Legislative Briefing will be held at the Free Enterprise Center. The briefing is open to all Chamber members who are asked to register free of charge.\n\n\n\nThis month's briefing will focus legislators updating us on issues at hand and an overall update on what is going on.
X-ALT-DESC;FMTTYPE=text/html:Friday\, April 21st\, the Monthly Legislative Briefing will be held at the Free Enterprise Center. The briefing is open to all Chamber members who are asked to register free of charge.<br />\n<br />\nThis month&#39\;s briefing will focus legislators updating us on issues at hand and an overall update on what is going on.&nbsp\;
LOCATION:Independence Chamber of Commerce Boardroom 210 W. Truman Road Independence\, MO 64050
UID:e.2043.3627
SEQUENCE:3
DTSTAMP:20260424T164330Z
URL:https://business.ichamber.biz/events/details/monthly-legislative-briefing-04-21-2017-3627
END:VEVENT

END:VCALENDAR
