BEGIN:VCALENDAR
VERSION:2.0
PRODID:-//ChamberMaster//Event Calendar 2.0//EN
METHOD:PUBLISH
X-PUBLISHED-TTL:P3D
REFRESH-INTERVAL:P3D
CALSCALE:GREGORIAN
BEGIN:VEVENT
DTSTART:20170519T130000Z
DTEND:20170519T141500Z
X-MICROSOFT-CDO-ALLDAYEVENT:FALSE
SUMMARY:Monthly Legislative Briefing
DESCRIPTION:Friday\, May 19th\, the Monthly Legislative Briefing will be held at the Free Enterprise Center. The briefing is open to all Chamber members who are asked to register free of charge.\n\n\n\nThis month's briefing will focus legislators updating us on issues at hand and an overall update on what is going on. \nConfirmed Legislators: \n\n Representative Stacy \n\nRepresentative Cierpiot\n\n Representative Anders\n\nRepresentative Lauer
X-ALT-DESC;FMTTYPE=text/html:Friday\, May 19th\, the Monthly Legislative Briefing will be held at the Free Enterprise Center. The briefing is open to all Chamber members who are asked to register free of charge.<br />\n<br />\nThis month&#39\;s briefing will focus legislators updating us on issues at hand and an overall update on what is going on.&nbsp\;\n<div style="text-align: center\;"><strong style="text-align: center\;"><u>Confirmed Legislators:</u>&nbsp\;</strong><br style="text-align: center\;" />\n<span style="text-align: center\;">&nbsp\;</span><span style="text-align: center\;">Representative Stacy&nbsp\;<br />\nRepresentative Cierpiot<br />\n&#8203\;Representative Anders<br />\nRepresentative Lauer &nbsp\;&nbsp\;</span></div>\n
LOCATION:Independence Chamber of Commerce Boardroom 210 W. Truman Road Independence\, MO 64050
UID:e.2043.3628
SEQUENCE:3
DTSTAMP:20260424T152929Z
URL:https://business.ichamber.biz/events/details/monthly-legislative-briefing-05-19-2017-3628
END:VEVENT

END:VCALENDAR
