BEGIN:VCALENDAR
VERSION:2.0
PRODID:-//ChamberMaster//Event Calendar 2.0//EN
METHOD:PUBLISH
X-PUBLISHED-TTL:P3D
REFRESH-INTERVAL:P3D
CALSCALE:GREGORIAN
BEGIN:VEVENT
DTSTART:20150522T130000Z
DTEND:20150522T141500Z
X-MICROSOFT-CDO-ALLDAYEVENT:FALSE
SUMMARY:Monthly Legislative Briefing
DESCRIPTION:Friday\, March 22\, the Monthly Legislative Briefing will be held at the Free Enterprise Center. The briefing is open to all Chamber members who are asked to register free of charge.\n\n\n\nThis month's briefing will focus on the legislation that has been passed this year. Legislators in attendance will be State Representatives Ira Anders\, Jeanie Lauer\, Tom McDonald and Sheila Solon along with State Senators Will Kraus and Paul LeVota.
X-ALT-DESC;FMTTYPE=text/html:Friday\, March 22\, the Monthly Legislative Briefing will be held at the Free Enterprise Center. The briefing is open to all Chamber members who are asked to register free of charge.<br />\n<br />\nThis month&#39\;s briefing will focus on the legislation that has been passed this year. Legislators in attendance will be State Representatives&nbsp\;Ira Anders\, Jeanie Lauer\, Tom McDonald and Sheila Solon along with State Senators Will Kraus and Paul LeVota.
LOCATION:Independence Chamber of Commerce Boardroom 210 W. Truman Road Independence\, MO 64050
UID:e.2043.2552
SEQUENCE:3
DTSTAMP:20260425T182215Z
URL:https://business.ichamber.biz/events/details/monthly-legislative-briefing-05-22-2015-2552
END:VEVENT

END:VCALENDAR
