BEGIN:VCALENDAR
VERSION:2.0
PRODID:-//ChamberMaster//Event Calendar 2.0//EN
METHOD:PUBLISH
X-PUBLISHED-TTL:P3D
REFRESH-INTERVAL:P3D
CALSCALE:GREGORIAN
BEGIN:VEVENT
DTSTART:20150619T130000Z
DTEND:20150619T141500Z
X-MICROSOFT-CDO-ALLDAYEVENT:FALSE
SUMMARY:Monthly Legislative Briefing
DESCRIPTION:Friday\, June 19th\, the monthly Legislative Briefing will be held at the Free Enterprise Center. This month will be a collaborative briefing with the Blue Springs Chamber of Commerce. It will be focused on federal issues with the following confirmed representatives:\n\n\n\n	Congressman Emanuel Cleaver\n	Senior Regional Director from the Office of US Senator Claire McCaskill\, Corey Dillon\n	Small Business Liaison from U.S. Senator Roy Blunt's office\, Tom Salisbury\n\n\nThe briefing is open to all Chamber members who are asked to register free of charge.
X-ALT-DESC;FMTTYPE=text/html:<span style="color:#000000\;"><span style="font-family: Arial\, Helvetica\, sans-serif\; font-size: 14px\; line-height: 18px\;">Friday\, June 19th\, the monthly Legislative Briefing will be held at the Free Enterprise Center.&nbsp\;This month will be a collaborative briefing with the Blue Springs Chamber of Commerce.</span></span><span style="font-family:arial\;"><span style="font-size: 11pt\; color: rgb(0\, 0\, 0)\; line-height: normal\;">&nbsp\;It will be focused on federal issues with the following confirmed representatives:</span></span>\n\n<div align="left" style="color: rgb(0\, 0\, 0)\; font-family: Calibri\, Helvetica\, Arial\, sans-serif\; font-size: 14.6666669845581px\; line-height: normal\;">\n<ul>\n	<li><span style="font-family:arial\;"><strong>Congressman Emanuel Cleaver</strong></span></li>\n	<li><span style="font-family:arial\;"><span style="font-size: 11pt\;">Senior Regional Director from the Office of US Senator Claire McCaskill\,&nbsp\;<strong><span style="font-size: 14.6666669845581px\;">Corey Dillon</span></strong></span></span></li>\n	<li><span style="font-family:arial\;"><span style="font-size: 11pt\;">Small Business Liaison from U.S. Senator Roy Blunt&#39\;s office\,&nbsp\;<strong><span style="font-size: 14.6666669845581px\;">Tom Salisbury</span></strong></span></span></li>\n</ul>\n</div>\n<span style="font-family: Arial\, Helvetica\, sans-serif\; font-size: 14px\; line-height: 18px\;">The briefing is open to all Chamber members who are asked to register free of charge.</span>
LOCATION:Independence Chamber of Commerce Boardroom 210 W. Truman Road Independence\, MO 64050
UID:e.2043.2554
SEQUENCE:3
DTSTAMP:20260425T172105Z
URL:https://business.ichamber.biz/events/details/monthly-legislative-briefing-06-19-2015-2554
END:VEVENT

END:VCALENDAR
