BEGIN:VCALENDAR
VERSION:2.0
PRODID:-//ChamberMaster//Event Calendar 2.0//EN
METHOD:PUBLISH
X-PUBLISHED-TTL:P3D
REFRESH-INTERVAL:P3D
CALSCALE:GREGORIAN
BEGIN:VEVENT
DTSTART:20150717T130000Z
DTEND:20150717T141500Z
X-MICROSOFT-CDO-ALLDAYEVENT:FALSE
SUMMARY:Monthly Legislative Briefing
DESCRIPTION:Friday\, July 17th\, the monthly Legislative Briefing will be held at the CJCFPD Training Center in Blues Springs. This month will be a collaborative briefing with the Blue Springs Chamber of Commerce. This month will be focused on federal issues. The briefing is open to all Chamber members who are asked to register free of charge.
X-ALT-DESC;FMTTYPE=text/html:<span style="color:#000000\;"><span style="font-family: Arial\, Helvetica\, sans-serif\; font-size: 14px\; line-height: 18px\;">Friday\, July 17th\, the monthly Legislative Briefing will be held at the CJCFPD Training Center in Blues Springs.&nbsp\;This month will be a collaborative briefing with the Blue Springs Chamber of Commerce.</span></span><span style="font-family:arial\;"><span style="font-size: 11pt\; color: rgb(0\, 0\, 0)\; line-height: normal\;">&nbsp\;This month will be focused on federal issues.</span></span> <span style="font-family: Arial\, Helvetica\, sans-serif\; font-size: 14px\; line-height: 18px\;">The briefing is open to all Chamber members who are asked to register free of charge.</span>
LOCATION:CJCFPD Training Center 4715 SW US Highway 40 Blue Springs\, MO
UID:e.2043.2639
SEQUENCE:3
DTSTAMP:20260425T161248Z
URL:https://business.ichamber.biz/events/details/monthly-legislative-briefing-07-17-2015-2639
END:VEVENT

END:VCALENDAR
