BEGIN:VCALENDAR
VERSION:2.0
PRODID:-//ChamberMaster//Event Calendar 2.0//EN
METHOD:PUBLISH
X-PUBLISHED-TTL:P3D
REFRESH-INTERVAL:P3D
CALSCALE:GREGORIAN
BEGIN:VEVENT
DTSTART:20170623T130000Z
DTEND:20170623T141500Z
X-MICROSOFT-CDO-ALLDAYEVENT:FALSE
SUMMARY:Monthly Legislative Briefing: Federal Legislative Briefing
DESCRIPTION:We hope you can join us at the Federal Legislative Briefing. The briefing is open to all Chamber members who are asked to register free of charge. A continental breakfast will be served.\n\n\n\nThis month's briefing will focus federal legislators updating us on issues at hand and an overall update on what is going on.
X-ALT-DESC;FMTTYPE=text/html:<span style="font-size:14px\;"><span style="font-family:arial\;">We hope you can join us at the Federal Legislative Briefing. The briefing is open to all Chamber members who are asked to register free of charge. A continental breakfast will be served.<br />\n<br />\nThis month&#39\;s briefing will focus federal legislators updating us on issues at hand and an overall update on what is going on.</span></span>&nbsp\;\n<div style="text-align: center\;">&nbsp\;</div>\n
LOCATION:Blue Ridge Bank & Trust Co. Little Blue Location 4200 Little Blue Pkwy\, Independence\, MO 64057
UID:e.2043.4965
SEQUENCE:3
DTSTAMP:20260424T141531Z
URL:https://business.ichamber.biz/events/details/monthly-legislative-briefing-federal-legislative-briefing-06-23-2017-4965
END:VEVENT

END:VCALENDAR
