BEGIN:VCALENDAR
VERSION:2.0
PRODID:-//ChamberMaster//Event Calendar 2.0//EN
METHOD:PUBLISH
X-PUBLISHED-TTL:P3D
REFRESH-INTERVAL:P3D
CALSCALE:GREGORIAN
BEGIN:VEVENT
DTSTART:20150813T173000Z
DTEND:20150813T183000Z
X-MICROSOFT-CDO-ALLDAYEVENT:FALSE
SUMMARY:Monthly Membership Committee Meeting
DESCRIPTION:The Membership Committee meets every second Thursday of the month at 12:30pm.
X-ALT-DESC;FMTTYPE=text/html:The Membership Committee meets every second Thursday&nbsp\;of the month at 12:30pm.&nbsp\;
LOCATION:Independence Chamber of Commerce 210 W. Truman Road
UID:e.2043.2572
SEQUENCE:3
DTSTAMP:20260425T150610Z
URL:https://business.ichamber.biz/events/details/monthly-membership-committee-meeting-08-13-2015-2572
END:VEVENT

END:VCALENDAR
