BEGIN:VCALENDAR
VERSION:2.0
PRODID:-//ChamberMaster//Event Calendar 2.0//EN
METHOD:PUBLISH
X-PUBLISHED-TTL:P3D
REFRESH-INTERVAL:P3D
CALSCALE:GREGORIAN
BEGIN:VEVENT
DTSTART:20180117T173000Z
DTEND:20180117T190000Z
X-MICROSOFT-CDO-ALLDAYEVENT:FALSE
SUMMARY:Monthly Membership Luncheon
DESCRIPTION:Be sure to join us for the Monthly Membership Luncheon sponsored by the City of Independence Power & Light where our City Manager\, Zach Walker will be speaking!
X-ALT-DESC;FMTTYPE=text/html:<p style="margin: 0px\; padding: 4px 0px 10px\; border: 0px\; font-size: 14px\; vertical-align: baseline\; color: rgb(51\, 51\, 51)\; line-height: 18px\; font-family: Arial\, Helvetica\, sans-serif\;">Be sure to join us for the Monthly Membership Luncheon sponsored by the City of Independence Power &amp\; Light where our City Manager\, Zach Walker will be speaking!</p>\n
LOCATION:Drury Inn & Suites Independence 20300 E 42nd St S Blue Springs\, MO 64015
UID:e.2043.3224
SEQUENCE:3
DTSTAMP:20260424T044925Z
URL:https://business.ichamber.biz/events/details/monthly-membership-luncheon-01-17-2018-3224
END:VEVENT

END:VCALENDAR
