BEGIN:VCALENDAR
VERSION:2.0
PRODID:-//ChamberMaster//Event Calendar 2.0//EN
METHOD:PUBLISH
X-PUBLISHED-TTL:P3D
REFRESH-INTERVAL:P3D
CALSCALE:GREGORIAN
BEGIN:VEVENT
DTSTART:20260218T173000Z
DTEND:20260218T190000Z
X-MICROSOFT-CDO-ALLDAYEVENT:FALSE
SUMMARY:Monthly Membership Luncheon
DESCRIPTION:Special Guest Speaker: Mark Jorgenson   President\, KC2026 Board of Directors\n\nWe are thrilled to welcome Mark Jorgenson\, President of the KC2026 Board of Directors\, as our featured speaker at the February Chamber luncheon! Mark\, a seasoned leader and retired Executive Vice President and Head of Community Banking for U.S. Bank\, now leads the board guiding Kansas City's role as a FIFA World Cup 26  Host City.\n\nThis is your chance to hear firsthand about the exciting opportunities and economic impact that the 2026 FIFA World Cup will bring to our region   and what it means for local business\, tourism\, community engagement\, and global visibility. From planning fan experiences to engaging the business community\, Mark will offer insights that are timely\, strategic\, and inspiring for our members.
X-ALT-DESC;FMTTYPE=text/html:<p data-end="287" data-start="202"><span style="font-size:18px\;"><strong data-end="285" data-start="202">Special Guest Speaker: Mark Jorgenson &mdash\; President\, KC2026 Board of Directors</strong></span></p>\n\n<p data-end="672" data-start="289"><span style="font-size:14px\;">We are thrilled to welcome <strong data-end="333" data-start="315">Mark Jorgenson</strong>\, President of the <strong data-end="381" data-start="352">KC2026 Board of Directors</strong>\, as our featured speaker at the February Chamber luncheon! Mark\, a seasoned leader and retired Executive Vice President and Head of Community Banking for U.S. Bank\, now leads the board guiding Kansas City&rsquo\;s role as a <strong data-end="632" data-start="599">FIFA World Cup 26&trade\; Host City.</strong></span></p>\n\n<p data-end="1106" data-start="674"><span style="font-size:14px\;">This is your chance to hear firsthand about the exciting opportunities and economic impact that the <strong data-end="797" data-start="774">2026 FIFA World Cup</strong> will bring to our region &mdash\; and what it means for local business\, tourism\, community engagement\, and global visibility. From planning fan experiences to engaging the business community\, Mark will offer insights that are timely\, strategic\, and inspiring for our members.&nbsp\;</span></p>\n
LOCATION:The Niche Space 3620 Arrowhead Ave Independence\, MO 64057
UID:e.2043.18780
SEQUENCE:3
DTSTAMP:20260425T221127Z
URL:https://business.ichamber.biz/events/details/monthly-membership-luncheon-02-18-2026-18780
END:VEVENT

END:VCALENDAR
