BEGIN:VCALENDAR
VERSION:2.0
PRODID:-//ChamberMaster//Event Calendar 2.0//EN
METHOD:PUBLISH
X-PUBLISHED-TTL:P3D
REFRESH-INTERVAL:P3D
CALSCALE:GREGORIAN
BEGIN:VEVENT
DTSTART:20190417T161500Z
DTEND:20190417T180000Z
X-MICROSOFT-CDO-ALLDAYEVENT:FALSE
SUMMARY:Monthly Membership Luncheon
DESCRIPTION:Be sure to join us at the brand new Cassell Park Elementary School for a snapshot of Independence education all the way from Preschool to Grad School!
X-ALT-DESC;FMTTYPE=text/html:<p style="margin: 0px\; padding: 4px 0px 10px\; border: 0px\; font-size: 14px\; vertical-align: baseline\; color: rgb(51\, 51\, 51)\; line-height: 18px\; font-family: Arial\, Helvetica\, sans-serif\;"><span style="font-size:16px\;">Be sure to join us at the brand new Cassell Park Elementary School for a snapshot of Independence education&nbsp\;all the way from Preschool&nbsp\;to Grad School!</span><br />\n&nbsp\;</p>\n
LOCATION:Cassell Park Elementary School
UID:e.2043.3239
SEQUENCE:3
DTSTAMP:20260424T211830Z
URL:https://business.ichamber.biz/events/details/monthly-membership-luncheon-04-17-2019-3239
END:VEVENT

END:VCALENDAR
