BEGIN:VCALENDAR
VERSION:2.0
PRODID:-//ChamberMaster//Event Calendar 2.0//EN
METHOD:PUBLISH
X-PUBLISHED-TTL:P3D
REFRESH-INTERVAL:P3D
CALSCALE:GREGORIAN
BEGIN:VEVENT
DTSTART:20180418T163000Z
DTEND:20180418T180000Z
X-MICROSOFT-CDO-ALLDAYEVENT:FALSE
SUMMARY:Monthly Membership Luncheon
DESCRIPTION:Be sure to join us for the Monthly Membership Luncheon sponsored by Stewardship Capital at Ophelia's where Architect of New Town Harmony\, Tim Busse will be speaking about New Town Harmony that's being built in Independence.
X-ALT-DESC;FMTTYPE=text/html:<p style="margin: 0px\; padding: 4px 0px 10px\; border: 0px\; font-size: 14px\; vertical-align: baseline\; color: rgb(51\, 51\, 51)\; line-height: 18px\; font-family: Arial\, Helvetica\, sans-serif\;">Be sure to join us for the Monthly Membership Luncheon sponsored by Stewardship Capital at Ophelia&#39\;s&nbsp\;where Architect of New Town Harmony\, Tim Busse will be speaking about New Town Harmony that&#39\;s being built&nbsp\;in Independence.&nbsp\;</p>\n
LOCATION:Ophelia's 201 N Main St\, Independence\, MO 64050
UID:e.2043.3227
SEQUENCE:3
DTSTAMP:20260424T055314Z
URL:https://business.ichamber.biz/events/details/monthly-membership-luncheon-04-18-2018-3227
END:VEVENT

END:VCALENDAR
