BEGIN:VCALENDAR
VERSION:2.0
PRODID:-//ChamberMaster//Event Calendar 2.0//EN
METHOD:PUBLISH
X-PUBLISHED-TTL:P3D
REFRESH-INTERVAL:P3D
CALSCALE:GREGORIAN
BEGIN:VEVENT
DTSTART:20170420T163000Z
DTEND:20170420T180000Z
X-MICROSOFT-CDO-ALLDAYEVENT:FALSE
SUMMARY:Monthly Membership Luncheon
DESCRIPTION:Be sure to join us for the Monthly Membership Luncheon! Toby Cook\, PR Director for the Kansas City Royals will be the speaker. \n\n*The Majestic Team Store will be open post luncheon
X-ALT-DESC;FMTTYPE=text/html:<p style="margin: 0px\; padding: 4px 0px 10px\; border: 0px currentColor\; border-image: none\; color: rgb(51\, 51\, 51)\; line-height: 18px\; font-family: Arial\, Helvetica\, sans-serif\; font-size: 14px\; vertical-align: baseline\;"><span style="font-size:14px\;"><span style="font-family:arial\;">Be sure to join us for the Monthly Membership Luncheon! Toby Cook\, PR Director for the Kansas City Royals will be the speaker.&nbsp\;<br />\n*The Majestic Team Store will be open post luncheon</span></span></p>\n
LOCATION:Kauffman Stadium 1 Royal Way Kansas City\, MO 64129 *Take the road right between the two stadiums and when you see the Majestic Team Store entrance on your right\, it's the door directly on the other side of that
UID:e.2043.3215
SEQUENCE:3
DTSTAMP:20260424T165633Z
URL:https://business.ichamber.biz/events/details/monthly-membership-luncheon-04-20-2017-3215
END:VEVENT

END:VCALENDAR
