BEGIN:VCALENDAR
VERSION:2.0
PRODID:-//ChamberMaster//Event Calendar 2.0//EN
METHOD:PUBLISH
X-PUBLISHED-TTL:P3D
REFRESH-INTERVAL:P3D
CALSCALE:GREGORIAN
BEGIN:VEVENT
DTSTART:20180516T163000Z
DTEND:20180516T180000Z
X-MICROSOFT-CDO-ALLDAYEVENT:FALSE
SUMMARY:Monthly Membership Luncheon
DESCRIPTION:SOLD OUT!!!\n\n\n\n\n\nBe sure to join us for the Monthly Membership Luncheon where Director of the Harry S. Truman Library\, Kurt Graham will be speaking\, sponsored by Comprehensive Mental Health Services!
X-ALT-DESC;FMTTYPE=text/html:<p style="margin: 0px\; padding: 4px 0px 10px\; border: 0px\; font-size: 14px\; vertical-align: baseline\; color: rgb(51\, 51\, 51)\; line-height: 18px\; font-family: Arial\, Helvetica\, sans-serif\;"><span style="font-size:22px\;"><span style="color:#FF0000\;"><em><u><strong>SOLD OUT!!!</strong></u></em></span></span><br />\n<br />\n<br />\nBe sure to join us for the Monthly Membership Luncheon where Director of the Harry S. Truman Library\, Kurt Graham will be speaking\, sponsored by Comprehensive Mental Health Services!&nbsp\;</p>\n
LOCATION:Harry S. Truman Library & Museum 500 W US Hwy 24\, Independence\, MO 64050 *Event on the east side\, please park in the east parking lot
UID:e.2043.3228
SEQUENCE:3
DTSTAMP:20260424T070716Z
URL:https://business.ichamber.biz/events/details/monthly-membership-luncheon-05-16-2018-3228
END:VEVENT

END:VCALENDAR
