BEGIN:VCALENDAR
VERSION:2.0
PRODID:-//ChamberMaster//Event Calendar 2.0//EN
METHOD:PUBLISH
X-PUBLISHED-TTL:P3D
REFRESH-INTERVAL:P3D
CALSCALE:GREGORIAN
BEGIN:VEVENT
DTSTART:20170517T163000Z
DTEND:20170517T180000Z
X-MICROSOFT-CDO-ALLDAYEVENT:FALSE
SUMMARY:Monthly Membership Luncheon
DESCRIPTION:Be sure to join us for the Monthly Membership Luncheon sponsored by Speaks Family Legacy Chapels! Paige Cahill\, Constant Contact Midwest & Mountain Regional Development Director will be speaking about the 2017 Marketing Trends: What's Hot and What's Not.\n\n \n\n\n	Learn what online marketing trends you should be implementing to be a marketing machine in 2017.\n	Learn what is hot this year with social media and email marketing.  \n	Understand the 4 key elements that are critical to any marketing.\n	Walk-Away with the 8 marketing best practices to help you optimize and supersize your online marketing\, sales\, and customer retention.
X-ALT-DESC;FMTTYPE=text/html:<p style="margin: 0px\; padding: 4px 0px 10px\; border: 0px\; font-size: 14px\; vertical-align: baseline\; color: rgb(51\, 51\, 51)\; line-height: 18px\; font-family: Arial\, Helvetica\, sans-serif\;"><span style="font-family:arial\;">Be sure to join us for the Monthly Membership Luncheon sponsored by Speaks Family Legacy Chapels! Paige Cahill\, <span style="font-size:11.0pt\;">Constant Contact Midwest &amp\; Mountain Regional Development Director&nbsp\;</span>will be speaking about the&nbsp\;<strong>2017 Marketing Trends: What&rsquo\;s Hot and What&rsquo\;s Not.</strong></span><br />\n&nbsp\;</p>\n\n<ul>\n	<li style="margin: 0px\; padding: 4px 0px 10px\; border: 0px\; font-size: 14px\; vertical-align: baseline\; color: rgb(51\, 51\, 51)\; line-height: 18px\; font-family: Arial\, Helvetica\, sans-serif\;"><span style="font-family:arial\;">Learn what online marketing trends you should be implementing to be a marketing machine in 2017.</span></li>\n	<li style="margin: 0px\; padding: 4px 0px 10px\; border: 0px\; font-size: 14px\; vertical-align: baseline\; color: rgb(51\, 51\, 51)\; line-height: 18px\; font-family: Arial\, Helvetica\, sans-serif\;"><span style="font-family:arial\;">Learn what is hot this year with social media and email marketing. &nbsp\;</span></li>\n	<li style="margin: 0px\; padding: 4px 0px 10px\; border: 0px\; font-size: 14px\; vertical-align: baseline\; color: rgb(51\, 51\, 51)\; line-height: 18px\; font-family: Arial\, Helvetica\, sans-serif\;"><span style="font-family:arial\;">Understand the 4 key elements that are critical to any marketing.</span></li>\n	<li style="margin: 0px\; padding: 4px 0px 10px\; border: 0px\; font-size: 14px\; vertical-align: baseline\; color: rgb(51\, 51\, 51)\; line-height: 18px\; font-family: Arial\, Helvetica\, sans-serif\;"><span style="font-family:arial\;">Walk-Away with the 8 marketing best practices to help you optimize and supersize your online marketing\, sales\, and customer retention.</span><br />\n	&nbsp\;</li>\n</ul>\n
LOCATION:Stoney Creek Hotel & Conference Center 18011 Bass Pro Dr. Independence\, MO 64055 Water Room
UID:e.2043.3216
SEQUENCE:3
DTSTAMP:20260424T153503Z
URL:https://business.ichamber.biz/events/details/monthly-membership-luncheon-05-17-2017-3216
END:VEVENT

END:VCALENDAR
