BEGIN:VCALENDAR
VERSION:2.0
PRODID:-//ChamberMaster//Event Calendar 2.0//EN
METHOD:PUBLISH
X-PUBLISHED-TTL:P3D
REFRESH-INTERVAL:P3D
CALSCALE:GREGORIAN
BEGIN:VEVENT
DTSTART:20190619T161500Z
DTEND:20190619T180000Z
X-MICROSOFT-CDO-ALLDAYEVENT:FALSE
SUMMARY:Monthly Membership Luncheon
DESCRIPTION:Please join us in the month of June as we Major Cato and Sergeant English enlighten us on the Independence Police Department's new Street Crimes Unit!
X-ALT-DESC;FMTTYPE=text/html:<p style="margin: 0px\; padding: 4px 0px 10px\; border: 0px\; font-size: 14px\; vertical-align: baseline\; color: rgb(51\, 51\, 51)\; line-height: 18px\; font-family: Arial\, Helvetica\, sans-serif\;"><span style="font-size:16px\;"><span style="font-family: arial\;">Please join us in the month of June as we Major Cato and Sergeant English enlighten us on the Independence Police Department&#39\;s new Street Crimes Unit!&nbsp\;</span></span></p>\n
LOCATION:Adam's Mark Hotel
UID:e.2043.3241
SEQUENCE:3
DTSTAMP:20260424T235244Z
URL:https://business.ichamber.biz/events/details/monthly-membership-luncheon-06-19-2019-3241
END:VEVENT

END:VCALENDAR
