BEGIN:VCALENDAR
VERSION:2.0
PRODID:-//ChamberMaster//Event Calendar 2.0//EN
METHOD:PUBLISH
X-PUBLISHED-TTL:P3D
REFRESH-INTERVAL:P3D
CALSCALE:GREGORIAN
BEGIN:VEVENT
DTSTART:20170621T163000Z
DTEND:20170621T180000Z
X-MICROSOFT-CDO-ALLDAYEVENT:FALSE
SUMMARY:Monthly Membership Luncheon
DESCRIPTION:Be sure to join us for the Monthly Membership Luncheon at the Kansas City Zoo sponsored by MC Power Companies! \n\nYour lunch ticket includes admittance to the Zoo after lunch. Enjoy a day at the Zoo with the Independence Chamber!
X-ALT-DESC;FMTTYPE=text/html:<p style="margin: 0px\; padding: 4px 0px 10px\; border: 0px\; font-size: 14px\; vertical-align: baseline\; color: rgb(51\, 51\, 51)\; line-height: 18px\; font-family: Arial\, Helvetica\, sans-serif\;"><span style="font-size:14px\;"><span style="font-family:arial\;">Be sure to join us for the Monthly Membership Luncheon at the Kansas City Zoo sponsored by MC Power Companies!&nbsp\;<br />\n<span style="color: rgb(51\, 51\, 51)\; background-color: rgb(255\, 255\, 255)\;">Your lunch ticket includes admittance to the Zoo after lunch. Enjoy a day at the Zoo with the Independence Chamber!</span></span></span></p>\n
LOCATION:Kansas City Zoo 6800 Zoo Dr\, Kansas City\, MO 64132
UID:e.2043.3217
SEQUENCE:3
DTSTAMP:20260424T141349Z
URL:https://business.ichamber.biz/events/details/monthly-membership-luncheon-06-21-2017-3217
END:VEVENT

END:VCALENDAR
