BEGIN:VCALENDAR
VERSION:2.0
PRODID:-//ChamberMaster//Event Calendar 2.0//EN
METHOD:PUBLISH
X-PUBLISHED-TTL:P3D
REFRESH-INTERVAL:P3D
CALSCALE:GREGORIAN
BEGIN:VEVENT
DTSTART:20190717T161500Z
DTEND:20190717T180000Z
X-MICROSOFT-CDO-ALLDAYEVENT:FALSE
SUMMARY:Monthly Membership Luncheon
DESCRIPTION:Please join us for our Monthly Membership Luncheon! In July\, we will be hearing from Kathy Nelson\, President and CEO of the Kansas City Sports Commission & Foundation. She will be speaking regarding new update of Kansas City being the location for the 2023 NFL Draft\, as well as the economic impact that sports have on our region.
X-ALT-DESC;FMTTYPE=text/html:Please join us for our Monthly Membership Luncheon! In July\, we will be hearing from Kathy Nelson\, President and CEO of the Kansas City Sports Commission &amp\; Foundation. She will be speaking regarding new update of Kansas City being the location for the 2023 NFL Draft\, as well as the economic impact that sports have on our region.
LOCATION:Hilton Garden Inn
UID:e.2043.3242
SEQUENCE:3
DTSTAMP:20260425T010727Z
URL:https://business.ichamber.biz/events/details/monthly-membership-luncheon-07-17-2019-3242
END:VEVENT

END:VCALENDAR
