BEGIN:VCALENDAR
VERSION:2.0
PRODID:-//ChamberMaster//Event Calendar 2.0//EN
METHOD:PUBLISH
X-PUBLISHED-TTL:P3D
REFRESH-INTERVAL:P3D
CALSCALE:GREGORIAN
BEGIN:VEVENT
DTSTART:20160720T163000Z
DTEND:20160720T180000Z
X-MICROSOFT-CDO-ALLDAYEVENT:FALSE
SUMMARY:Monthly Membership Luncheon
DESCRIPTION:Be sure to join us for the Monthly Membership Luncheon at the Blue River Campus of Metropolitan Community College.\n\nDr. Michael Banks will be speaking.
X-ALT-DESC;FMTTYPE=text/html:<p style="margin: 0px\; padding: 4px 0px 10px\; border: 0px\; font-size: 14px\; vertical-align: baseline\; color: rgb(51\, 51\, 51)\; line-height: 18px\; font-family: Arial\, Helvetica\, sans-serif\;">Be sure to join us for the Monthly Membership Luncheon at the Blue River Campus of Metropolitan&nbsp\;Community College.<br />\nDr. Michael Banks will be speaking.</p>\n
LOCATION:Metropolitan Community College-Blue River 20301 E State Rt 78 Independence\, MO 64057
UID:e.2043.39
SEQUENCE:3
DTSTAMP:20260425T034232Z
URL:https://business.ichamber.biz/events/details/monthly-membership-luncheon-07-20-2016-39
END:VEVENT

END:VCALENDAR
