BEGIN:VCALENDAR
VERSION:2.0
PRODID:-//ChamberMaster//Event Calendar 2.0//EN
METHOD:PUBLISH
X-PUBLISHED-TTL:P3D
REFRESH-INTERVAL:P3D
CALSCALE:GREGORIAN
BEGIN:VEVENT
DTSTART:20190918T163000Z
DTEND:20190918T180000Z
X-MICROSOFT-CDO-ALLDAYEVENT:FALSE
SUMMARY:Monthly Membership Luncheon
DESCRIPTION:TOPIC:  \n\n\n\nCybersecurity:  Protecting your business from potential risks\n\n\n\nToday's data threats don't discriminate\; businesses of all sizes are susceptible to attacks.  Employees are connected to the Internet all day every day\, communicating with colleagues and stakeholders\, sharing critical information and jumping from site to site.  With hackings\, data breaches and ransomware attacks on the rise\, it is essential for all companies to plan for the worst.  David Evans\, Chief Information Officer\, for the City of Kansas City\, Missouri\, will discuss everything from the potential dangers and risks businesses face today in this increasingly digital world and will give tips on how to protect you and your business from cyberattacks. \n\n\n\n\n\nDAVID EVANS BIO:\n\nDavid Evans is the Chief Information Officer (CIO) for the City of Kansas City\, Missouri\, with over three decades of successful experience in the Information Technology Industry. He is a member of the Regional Cybersecurity Forum\, and the Digital Government Advisory Board for the State of Missouri. He is the Technical Lead for Google Fiber KC\, Smart City KC\, KC Streetcar and the SantaCaliGon Days Festival.  David has been recognized in industry publications and featured on national radio for his specialized Cybersecurity skills and strategies.  As CIO for a highly technological City\, Cybersecurity is his key focus and concern.
X-ALT-DESC;FMTTYPE=text/html:<p style="margin: 0px\; padding: 4px 0px 10px\; border: 0px\; font-size: 14px\; vertical-align: baseline\; color: rgb(51\, 51\, 51)\; line-height: 18px\; font-family: Arial\, Helvetica\, sans-serif\;"><span style="font-size:14px\;"><span style="font-family:arial\;"><strong><span style="font-size:20px\;">TOPIC:</span>&nbsp\; </strong><br />\n<br />\n<span style="font-size:18px\;"><strong>Cybersecurity:&nbsp\; Protecting your business from potential risks</strong></span><br />\n<br />\nToday&rsquo\;s data threats don&rsquo\;t discriminate\; businesses of all sizes are susceptible to attacks.&nbsp\; Employees are connected to the Internet all day every day\, communicating with colleagues and stakeholders\, sharing critical information and jumping from site to site.&nbsp\; With hackings\, data breaches and ransomware attacks on the rise\, it is essential for all companies to plan for the worst.&nbsp\; David Evans\, Chief Information Officer\, for the City of Kansas City\, Missouri\,&nbsp\;will discuss everything from the potential dangers and risks businesses face today in this increasingly digital world and will give tips on how to protect you and your business from cyberattacks.&nbsp\;<br />\n<br />\n<br />\n<strong>DAVID EVANS BIO:</strong><br />\nDavid Evans is the Chief Information Officer (CIO) for the City of Kansas City\, Missouri\, with over three decades of successful experience in the Information Technology Industry. He is a member of the Regional Cybersecurity Forum\, and the Digital Government Advisory Board for the State of Missouri. He is the Technical Lead for Google Fiber KC\, Smart City KC\, KC Streetcar and the SantaCaliGon Days Festival.&nbsp\; David has been recognized in industry publications and featured on national radio for his specialized Cybersecurity skills and strategies. &nbsp\;As CIO for a highly technological City\, Cybersecurity is his key focus and concern. </span></span><br />\n&nbsp\;</p>\n
LOCATION:Stoney Creek Hotel
UID:e.2043.3244
SEQUENCE:3
DTSTAMP:20260425T030912Z
URL:https://business.ichamber.biz/events/details/monthly-membership-luncheon-09-18-2019-3244
END:VEVENT

END:VCALENDAR
