BEGIN:VCALENDAR
VERSION:2.0
PRODID:-//ChamberMaster//Event Calendar 2.0//EN
METHOD:PUBLISH
X-PUBLISHED-TTL:P3D
REFRESH-INTERVAL:P3D
CALSCALE:GREGORIAN
BEGIN:VEVENT
DTSTART:20170920T163000Z
DTEND:20170920T180000Z
X-MICROSOFT-CDO-ALLDAYEVENT:FALSE
SUMMARY:Monthly Membership Luncheon
DESCRIPTION:Be sure to join us for the Monthly Membership Luncheon sponsored by Great Circle where Superintendent of the Independence School District\, Dr. Herl\, will be speaking!
X-ALT-DESC;FMTTYPE=text/html:<p style="margin: 0px\; padding: 4px 0px 10px\; border: 0px\; font-size: 14px\; vertical-align: baseline\; color: rgb(51\, 51\, 51)\; line-height: 18px\; font-family: Arial\, Helvetica\, sans-serif\;">Be sure to join us for the Monthly Membership Luncheon sponsored by Great Circle where Superintendent&nbsp\;of the Independence School District\, Dr. Herl\, will be speaking!</p>\n
LOCATION:Ennovation Center 201 N. Forest Ave Independence\, MO 64050
UID:e.2043.3220
SEQUENCE:3
DTSTAMP:20260424T100906Z
URL:https://business.ichamber.biz/events/details/monthly-membership-luncheon-09-20-2017-3220
END:VEVENT

END:VCALENDAR
