BEGIN:VCALENDAR
VERSION:2.0
PRODID:-//ChamberMaster//Event Calendar 2.0//EN
METHOD:PUBLISH
X-PUBLISHED-TTL:P3D
REFRESH-INTERVAL:P3D
CALSCALE:GREGORIAN
BEGIN:VEVENT
DTSTART:20160921T163000Z
DTEND:20160921T180000Z
X-MICROSOFT-CDO-ALLDAYEVENT:FALSE
SUMMARY:Monthly Membership Luncheon
DESCRIPTION:Be sure to join us for the Monthly Membership Luncheon at the Ennovation Center. Dr. Dale Herl\, Superintendent of the Independence School District\, will be speaking.
X-ALT-DESC;FMTTYPE=text/html:<p style="margin: 0px\; padding: 4px 0px 10px\; border: 0px\; font-size: 14px\; vertical-align: baseline\; color: rgb(51\, 51\, 51)\; line-height: 18px\; font-family: Arial\, Helvetica\, sans-serif\;">Be sure to join us for the Monthly Membership Luncheon at the Ennovation&nbsp\;Center. Dr. Dale Herl\, Superintendent of the Independence School District\, will be speaking.</p>\n
LOCATION:Ennovation Center 201 N Forest Ave Independence MO 64050
UID:e.2043.41
SEQUENCE:3
DTSTAMP:20260425T015201Z
URL:https://business.ichamber.biz/events/details/monthly-membership-luncheon-09-21-2016-41
END:VEVENT

END:VCALENDAR
