BEGIN:VCALENDAR
VERSION:2.0
PRODID:-//ChamberMaster//Event Calendar 2.0//EN
METHOD:PUBLISH
X-PUBLISHED-TTL:P3D
REFRESH-INTERVAL:P3D
CALSCALE:GREGORIAN
BEGIN:VEVENT
DTSTART:20161013T163000Z
DTEND:20161013T180000Z
X-MICROSOFT-CDO-ALLDAYEVENT:FALSE
SUMMARY:Monthly Membership Luncheon
DESCRIPTION:Be sure to join us for the Monthly Membership Luncheon!\n\nThe speaker is Ted C. Jones\, Chief Economist   Senior Vice President for Stewart Title Guaranty Company.
X-ALT-DESC;FMTTYPE=text/html:<p style="margin: 0px\; padding: 4px 0px 10px\; border: 0px\; font-size: 14px\; vertical-align: baseline\; color: rgb(51\, 51\, 51)\; line-height: 18px\; font-family: Arial\, Helvetica\, sans-serif\;">Be sure to join us for the Monthly Membership Luncheon!<br />\nThe&nbsp\;speaker is&nbsp\;<span style="color: rgb(68\, 68\, 68)\; font-family: HelveticaNeueETW01-55Rg\, &quot\;Helvetica Neue&quot\;\, Helvetica\, Arial\, sans-serif\; font-size: 14px\; line-height: 21.7px\;">Ted C. Jones\,&nbsp\;Chief Economist &ndash\; Senior Vice President for Stewart Title Guaranty Company.&nbsp\;</span></p>\n
LOCATION:Hilton Garden Inn 19677 E Jackson Dr Independence MO 64057
UID:e.2043.42
SEQUENCE:3
DTSTAMP:20260425T004457Z
URL:https://business.ichamber.biz/events/details/monthly-membership-luncheon-10-13-2016-42
END:VEVENT

END:VCALENDAR
