BEGIN:VCALENDAR
VERSION:2.0
PRODID:-//ChamberMaster//Event Calendar 2.0//EN
METHOD:PUBLISH
X-PUBLISHED-TTL:P3D
REFRESH-INTERVAL:P3D
CALSCALE:GREGORIAN
BEGIN:VEVENT
DTSTART:20171213T173000Z
DTEND:20171213T190000Z
X-MICROSOFT-CDO-ALLDAYEVENT:FALSE
SUMMARY:Monthly Membership Luncheon
DESCRIPTION:Be sure to join us for our Holiday Monthly Membership Luncheon!
X-ALT-DESC;FMTTYPE=text/html:<p style="margin: 0px\; padding: 4px 0px 10px\; border: 0px\; font-size: 14px\; vertical-align: baseline\; color: rgb(51\, 51\, 51)\; line-height: 18px\; font-family: Arial\, Helvetica\, sans-serif\;">Be sure to join us for our Holiday Monthly Membership Luncheon!<br>\n&nbsp\;</p>\n
LOCATION:Ophelia's 201 N Main St. Independence\, MO 64050
UID:e.2043.3223
SEQUENCE:3
DTSTAMP:20260424T055411Z
URL:https://business.ichamber.biz/events/details/monthly-membership-luncheon-12-13-2017-3223
END:VEVENT

END:VCALENDAR
