BEGIN:VCALENDAR
VERSION:2.0
PRODID:-//ChamberMaster//Event Calendar 2.0//EN
METHOD:PUBLISH
X-PUBLISHED-TTL:P3D
REFRESH-INTERVAL:P3D
CALSCALE:GREGORIAN
BEGIN:VEVENT
DTSTART:20220427T163000Z
DTEND:20220427T180000Z
X-MICROSOFT-CDO-ALLDAYEVENT:FALSE
SUMMARY:Monthly Membership Luncheon
DESCRIPTION:NOTE: \n\nThis event was rescheduled from the original date of April 20th\, 2022\, due to funeral services scheduled for Councilwomen Karen DeLuccie.  If you are still planning to attend on the new date\, you do not need to do anything. However\, if you are NOT able to attend\, please send a message to Kris Zerr at kris@ichamber.biz to request a refund.\n\n\n\nPlease register and join us for the April Membership Luncheon. Our speaker this month will be Michael Baxley\, executive director of Englewood Arts. He will be sharing the latest status on the Englewood Arts projects including some slides!
X-ALT-DESC;FMTTYPE=text/html:<span style="font-size:16px\;"><span style="font-family:arial\;"><strong>NOTE:&nbsp\;</strong><br />\nThis event was rescheduled from the original date of <strong>April 20th\, 2022\, </strong><span class="JsGRdQ">due to funeral services scheduled for Councilwomen Karen DeLuccie.&nbsp\; I</span><span style="text-align: center\;">f you are still planning to attend on the new date\, you do not need to do anything. However\, if you are&nbsp\;</span><span style="text-align: center\; font-weight: bold\;">NOT</span><span style="text-align: center\;">&nbsp\;able to attend\, please send a message to&nbsp\;</span><span style="text-align: center\; font-weight: bold\;">Kris Zerr</span><span style="text-align: center\;">&nbsp\;at&nbsp\;</span><a href="mailto:kris@ichamber.biz" rel="noopener noreferrer" style="text-align: center\; font-size: 18px\; color: rgb(84\, 84\, 84)\; font-family: Tahoma\, Geneva\, sans-serif\; font-weight: bold\;" target="_blank">kris@ichamber.biz</a><span style="text-align: center\;">&nbsp\;to request a refund.</span></span><br />\n<br />\nPlease register and join us for the April Membership Luncheon. Our speaker this month will be Michael Baxley\, executive director of Englewood Arts. He will be sharing the latest status on the Englewood Arts projects including some slides!</span>
LOCATION:Stoney Creek Hotel & Conference Center 18011 Bass Pro Dr. Independence MO 64055
UID:e.2043.14251
SEQUENCE:3
DTSTAMP:20260423T183857Z
URL:https://business.ichamber.biz/events/details/monthly-membership-luncheon-14251
END:VEVENT

END:VCALENDAR
