BEGIN:VCALENDAR
VERSION:2.0
PRODID:-//ChamberMaster//Event Calendar 2.0//EN
METHOD:PUBLISH
X-PUBLISHED-TTL:P3D
REFRESH-INTERVAL:P3D
CALSCALE:GREGORIAN
BEGIN:VEVENT
DTSTART:20260121T173000Z
DTEND:20260121T190000Z
X-MICROSOFT-CDO-ALLDAYEVENT:FALSE
SUMMARY:Monthly Membership Luncheon
DESCRIPTION:Please join us for the January Membership Luncheon for a once-in-a-generation conversation about the future of Independence.\n\n800 Megawatts. Three Years. One Community.\n\nIndependence Power and Light currently delivers 285 megawatts across our city.\n\nOne incoming data center will require 800 megawatts of reliable power.\n\nThat is nearly three times our current load and over $100 billion in private investment coming to our community.\n\nJoin us for a one-on-one conversation with the head of Independence Power and Light as we explore how this scale of growth happens\, what it takes to deliver it\, and how Independence prepares for a future that will look nothing like today.\n\nWHY ATTEND:\n\n  Understand the real impact on infrastructure and reliability\n\n  Hear how a 3-year power roadmap comes together\n\n  Learn what this means for businesses\, residents\, and long-term growth\n\n\n\nThis is not just a project. It is a defining moment for Independence.\n\n\n\nEnjoy a catered meal while listening to guest speakers share insights on industry trends\, economic development\, and community initiatives.\n\nIt's a fantastic opportunity to connect\, exchange ideas\, and strengthen our local business network. Don't miss out on the chance to be part of the conversation and contribute to the growth of our vibrant community!
X-ALT-DESC;FMTTYPE=text/html:<p><span style="font-size:14px\;"><span style="font-family:arial\;">Please join us for the January Membership Luncheon for a&nbsp\;<span style="color: rgb(36\, 36\, 36)\;">once-in-a-generation conversation about the future of Independence.</span></span></span></p>\n\n<p style="color: rgb(36\, 36\, 36)\; font-family: &quot\;Segoe UI&quot\;\, &quot\;Segoe UI Web (West European)&quot\;\, -apple-system\, BlinkMacSystemFont\, Roboto\, &quot\;Helvetica Neue&quot\;\, sans-serif\; font-size: 15px\;"><span style="font-size:14px\;"><span style="font-family:arial\;"><strong data-olk-copy-source="MessageBody">800 Megawatts. Three Years. One Community.</strong></span></span></p>\n\n<p style="color: rgb(36\, 36\, 36)\; font-family: &quot\;Segoe UI&quot\;\, &quot\;Segoe UI Web (West European)&quot\;\, -apple-system\, BlinkMacSystemFont\, Roboto\, &quot\;Helvetica Neue&quot\;\, sans-serif\; font-size: 15px\;"><span style="font-size:14px\;"><span style="font-family:arial\;">Independence Power and Light currently delivers&nbsp\;<strong>285 megawatts</strong>&nbsp\;across our city.</span></span></p>\n\n<p style="color: rgb(36\, 36\, 36)\; font-family: &quot\;Segoe UI&quot\;\, &quot\;Segoe UI Web (West European)&quot\;\, -apple-system\, BlinkMacSystemFont\, Roboto\, &quot\;Helvetica Neue&quot\;\, sans-serif\; font-size: 15px\;"><span style="font-size:14px\;"><span style="font-family:arial\;">One incoming data center will require&nbsp\;<strong>800 megawatts</strong>&nbsp\;of reliable power.</span></span></p>\n\n<p style="color: rgb(36\, 36\, 36)\; font-family: &quot\;Segoe UI&quot\;\, &quot\;Segoe UI Web (West European)&quot\;\, -apple-system\, BlinkMacSystemFont\, Roboto\, &quot\;Helvetica Neue&quot\;\, sans-serif\; font-size: 15px\;"><span style="font-size:14px\;"><span style="font-family:arial\;">That is nearly&nbsp\;<strong>three times</strong>&nbsp\;our current load and over&nbsp\;<strong>$100 billion</strong>&nbsp\;in private investment coming to our community.</span></span></p>\n\n<p style="color: rgb(36\, 36\, 36)\; font-family: &quot\;Segoe UI&quot\;\, &quot\;Segoe UI Web (West European)&quot\;\, -apple-system\, BlinkMacSystemFont\, Roboto\, &quot\;Helvetica Neue&quot\;\, sans-serif\; font-size: 15px\;"><span style="font-size:14px\;"><span style="font-family:arial\;">Join us for a one-on-one conversation with the head of&nbsp\;<strong>Independence Power and Light</strong>&nbsp\;as we explore how this scale of growth happens\, what it takes to deliver it\, and how Independence prepares for a future that will look nothing like today.</span></span></p>\n\n<p style="color: rgb(36\, 36\, 36)\; font-family: &quot\;Segoe UI&quot\;\, &quot\;Segoe UI Web (West European)&quot\;\, -apple-system\, BlinkMacSystemFont\, Roboto\, &quot\;Helvetica Neue&quot\;\, sans-serif\; font-size: 15px\;"><span style="font-size:14px\;"><span style="font-family:arial\;"><strong>WHY ATTEND:</strong></span></span></p>\n\n<p style="color: rgb(36\, 36\, 36)\; font-family: &quot\;Segoe UI&quot\;\, &quot\;Segoe UI Web (West European)&quot\;\, -apple-system\, BlinkMacSystemFont\, Roboto\, &quot\;Helvetica Neue&quot\;\, sans-serif\; font-size: 15px\;"><span style="font-size:14px\;"><span style="font-family:arial\;">&bull\; Understand the real impact on infrastructure and reliability<br />\n&bull\; Hear how a 3-year power roadmap comes together<br />\n&bull\; Learn what this means for businesses\, residents\, and long-term growth</span></span></p>\n\n<p style="color: rgb(36\, 36\, 36)\; font-family: &quot\;Segoe UI&quot\;\, &quot\;Segoe UI Web (West European)&quot\;\, -apple-system\, BlinkMacSystemFont\, Roboto\, &quot\;Helvetica Neue&quot\;\, sans-serif\; font-size: 15px\;"><br />\n<span style="font-size:14px\;"><span style="font-family:arial\;">This is not just a project. It is a defining moment for Independence.</span></span></p>\n\n<p><br />\n<span style="font-size:14px\;"><span style="font-family:arial\;">Enjoy a catered meal while listening to guest speakers share insights on industry trends\, economic development\, and community initiatives.<br />\nIt&#39\;s a fantastic opportunity to connect\, exchange ideas\, and strengthen our local business network. Don&#39\;t miss out on the chance to be part of the conversation and contribute to the growth of our vibrant community!</span></span></p>\n
LOCATION:MCPL - Midwest Genealogy Center / Conference Center 3440 S Lee's Summit Rd Independence\, MO 64055
UID:e.2043.18741
SEQUENCE:3
DTSTAMP:20260425T205056Z
URL:https://business.ichamber.biz/events/details/monthly-membership-luncheon-18741
END:VEVENT

END:VCALENDAR
