BEGIN:VCALENDAR
VERSION:2.0
PRODID:-//ChamberMaster//Event Calendar 2.0//EN
METHOD:PUBLISH
X-PUBLISHED-TTL:P3D
REFRESH-INTERVAL:P3D
CALSCALE:GREGORIAN
BEGIN:VEVENT
DTSTART:20190320T161500Z
DTEND:20190320T180000Z
X-MICROSOFT-CDO-ALLDAYEVENT:FALSE
SUMMARY:Monthly Membership Luncheon
DESCRIPTION:Be sure to join us for the Monthly Membership Luncheon sponsored by the City of Independence where we will hear from 2018 Kansas City Citian of the Year and former Kansas City Mayor\, Kay Barnes.
X-ALT-DESC;FMTTYPE=text/html:<p style="margin: 0px\; padding: 4px 0px 10px\; border: 0px\; font-size: 14px\; vertical-align: baseline\; color: rgb(51\, 51\, 51)\; line-height: 18px\; font-family: Arial\, Helvetica\, sans-serif\;"><span style="font-size:16px\;">Be sure to join us for the Monthly Membership Luncheon sponsored by the City of Independence where we will hear from 2018 Kansas City Citian of the Year and former Kansas City Mayor\, Kay Barnes.</span></p>\n
LOCATION:Stoney Creek Hotel & Conference Center
UID:e.2043.3238
SEQUENCE:3
DTSTAMP:20260424T200110Z
URL:https://business.ichamber.biz/events/details/monthly-membership-luncheon-3238
END:VEVENT

END:VCALENDAR
