BEGIN:VCALENDAR
VERSION:2.0
PRODID:-//ChamberMaster//Event Calendar 2.0//EN
METHOD:PUBLISH
X-PUBLISHED-TTL:P3D
REFRESH-INTERVAL:P3D
CALSCALE:GREGORIAN
BEGIN:VEVENT
DTSTART:20200722T163000Z
DTEND:20200722T180000Z
X-MICROSOFT-CDO-ALLDAYEVENT:FALSE
SUMMARY:Monthly Membership Luncheon at the KC Zoo
DESCRIPTION:Be sure to register for our FIRST in-person luncheon since February! We are so excited to kick-off our in-person luncheons at the Kansas City Zoo! However\, there is a LIMITED SPACE AVAILABLE\, so please register in advance! $25 will get you great networking\, a brief program regarding the KC Zoo\, free admission to the zoo afterward\, and an upscale boxed lunch! Anyone who pays for their kids\, family\, or friends to attend the luncheon will be freely admitted to the zoo afterward as well! You will not want to miss it!\n\n**Keep in mind that you will be required to wear a mask during the event.
X-ALT-DESC;FMTTYPE=text/html:<p style="margin: 0px\; padding: 4px 0px 10px\; border: 0px\; font-size: 14px\; vertical-align: baseline\; color: rgb(51\, 51\, 51)\; line-height: 18px\; font-family: Arial\, Helvetica\, sans-serif\;">Be sure to register for our FIRST in-person luncheon since February! We are so excited to kick-off our in-person luncheons at the Kansas City Zoo! However\, there is a LIMITED SPACE AVAILABLE\, so please register in advance! $25 will get you great networking\, a brief program regarding the KC Zoo\, free admission to the zoo afterward\, and an upscale boxed lunch! Anyone who pays for their kids\, family\, or friends to attend the luncheon will be freely admitted to the zoo afterward as well! You will not want to miss it!<br />\n**Keep in mind that you will be required to wear a mask during the event.</p>\n
LOCATION:Kansas City Zoo **At arrival\, please go to Guest Services and tell them you are attending the Chamber event.
UID:e.2043.3254
SEQUENCE:3
DTSTAMP:20260425T125518Z
URL:https://business.ichamber.biz/events/details/monthly-membership-luncheon-at-the-kc-zoo-3254
END:VEVENT

END:VCALENDAR
