BEGIN:VCALENDAR
VERSION:2.0
PRODID:-//ChamberMaster//Event Calendar 2.0//EN
METHOD:PUBLISH
X-PUBLISHED-TTL:P3D
REFRESH-INTERVAL:P3D
CALSCALE:GREGORIAN
BEGIN:VEVENT
DTSTART;VALUE=DATE:20281225
DTEND;VALUE=DATE:20281226
TRANSP:TRANSPARENT
X-MICROSOFT-CDO-ALLDAYEVENT:TRUE
SUMMARY:Music Lessons
DESCRIPTION:Englewood Arts now offers private music lessons for Guitar (acoustic and electric)\, Bass Guitar\, Piano (Beginning to Intermediate) \, Drums\, and Music Theory.\n\nWhether you are just beginning\, Intermediate\, or Advanced\, we offer a fun and welcoming learning environment for all ages.\n\n\n\n(Recommended ages 6 and up).\n\n\n\nEnglewood Arts maintains an open door policy and parents are encouraged to observe each lesson.
X-ALT-DESC;FMTTYPE=text/html:<span style="color:rgb(192\, 192\, 192)\; font-family:source sans pro\,helvetica neue\,helvetica\,arial\,sans-serif\; font-size:16px">Englewood Arts now offers private music lessons for Guitar (acoustic and electric)\, Bass Guitar\, Piano (Beginning to Intermediate) \, Drums\, and Music Theory.</span><br />\n<span style="color:rgb(192\, 192\, 192)\; font-family:source sans pro\,helvetica neue\,helvetica\,arial\,sans-serif\; font-size:16px">Whether you are just beginning\, Intermediate\, or Advanced\, we offer a fun and welcoming learning environment for all ages.</span><br />\n<br />\n<span style="color:rgb(192\, 192\, 192)\; font-family:source sans pro\,helvetica neue\,helvetica\,arial\,sans-serif\; font-size:16px">(Recommended ages 6 and up).</span><br />\n<br />\n<span style="color:rgb(192\, 192\, 192)\; font-family:source sans pro\,helvetica neue\,helvetica\,arial\,sans-serif\; font-size:16px">Englewood Arts maintains an open door policy and parents are encouraged to observe each lesson.</span>
LOCATION:Englewood Arts 10901 E Winner Rd Independence\, MO 64052
UID:e.2043.15070
SEQUENCE:3
DTSTAMP:20260421T093233Z
URL:https://business.ichamber.biz/events/details/music-lessons-12-25-2028-15070
END:VEVENT

END:VCALENDAR
